BEGIN:VCALENDAR
VERSION:2.0
PRODID:-//Porsche Club of America - Chesapeake Region - ECPv6.15.20//NONSGML v1.0//EN
CALSCALE:GREGORIAN
METHOD:PUBLISH
X-ORIGINAL-URL:https://pcachs.org
X-WR-CALDESC:Events for Porsche Club of America - Chesapeake Region
REFRESH-INTERVAL;VALUE=DURATION:PT1H
X-Robots-Tag:noindex
X-PUBLISHED-TTL:PT1H
BEGIN:VTIMEZONE
TZID:America/New_York
BEGIN:DAYLIGHT
TZOFFSETFROM:-0500
TZOFFSETTO:-0400
TZNAME:EDT
DTSTART:20250309T070000
END:DAYLIGHT
BEGIN:STANDARD
TZOFFSETFROM:-0400
TZOFFSETTO:-0500
TZNAME:EST
DTSTART:20251102T060000
END:STANDARD
BEGIN:DAYLIGHT
TZOFFSETFROM:-0500
TZOFFSETTO:-0400
TZNAME:EDT
DTSTART:20260308T070000
END:DAYLIGHT
BEGIN:STANDARD
TZOFFSETFROM:-0400
TZOFFSETTO:-0500
TZNAME:EST
DTSTART:20261101T060000
END:STANDARD
BEGIN:DAYLIGHT
TZOFFSETFROM:-0500
TZOFFSETTO:-0400
TZNAME:EDT
DTSTART:20270314T070000
END:DAYLIGHT
BEGIN:STANDARD
TZOFFSETFROM:-0400
TZOFFSETTO:-0500
TZNAME:EST
DTSTART:20271107T060000
END:STANDARD
END:VTIMEZONE
BEGIN:VEVENT
DTSTART;VALUE=DATE:20260422
DTEND;VALUE=DATE:20260423
DTSTAMP:20260423T135041
CREATED:20260110T215823Z
LAST-MODIFIED:20260202T231927Z
UID:10000181-1776816000-1776902399@pcachs.org
SUMMARY:Weekday Wander #3 Tour
DESCRIPTION:PCA-CHS 2026 Tour & Rally Event No. 3 – Wednesday\, April 22nd  \nClick Here to Register\nLast season\, our mid-week tours were very popular\, so our first weekday tour of 2026 will take us on one of the best driving roads in the area\, Pennsylvania Route 26. PA 26 has always been a favorite road\, as it offers not only great driving\, but excellent scenery. We will start the event with lunch at Jimmy Joy’s Log Cabin Inn and then do a round trip drive of Route 26\, ending in Little Orleans\, MD\, for some ice cream. \nYou are welcome to join us for the lunch and then go off on your own or join our tour groups. But\, like all Weekday Wander tours\, capacity is extremely limited. \nWHEN and WHERE  \n\nAssembly Point:  The Hancock\, MD\, address will be sent to confirmed registrants by April 20th\nWhen:  April 22nd\, Wednesday\, Lunch at 12:00 pm\nDriver’s Meeting: approximately 1:15 pm\nDeparture: First cars off approximately 1:30 pm\nDestination: Little Orleans\, MD\nDistance: 73 miles\nETA: Approximately 90 minutes\n\nPARTICIPATION  \nBy signing up for and joining any of our driving events\, registrants acknowledge and assume all the risks in and full responsibility for their participation. PCA waiver forms must be completed and signed by all\, online or on paper. Note that planned events are subject to change\, for weather-related or other reasons. \nREGISTRATION \n\nLog on to your MotorsportReg account at https://msreg.com/WW3\nRegistration is open and will close at 1:00 pm on April 19th.\nPCA members and their guests must be registered and confirmed to join this event.\nDrivers must be adult PCA members with a valid driver’s license.\nFee $5 per adult; maximum fee $10 per car; minors (17 and younger) free.\nMotorsportReg charges a $2 booking fee for every registration (not for every person).\nRoute instructions and other documents will be sent to confirmed registrants via e-mail by 6:00 pm on April 21st.\nAll PCA members and their family are welcome.\nYou will be responsible for the cost of your own lunch. To obtain a refund\, cancellations must be made before the closing of registration.\nIf you have already registered and need help to cancel your registration\, refer to this link for detailed instructions. \n\nQUESTIONS: Send tour-related questions to the Tour & Rally Committee\, at tour@pcachs.org. \nTo preview and register for upcoming Tours\, visit the Tour & Rally page on PCACHS.org: https://pcachs.org/tour-and-rally/
URL:https://pcachs.org/event/weekday-wander-3/
LOCATION:Hancock\, MD\, Hancock\, Maryland
CATEGORIES:Tours & Rallies
ATTACH;FMTTYPE=image/png:https://pcachs.org/wp-content/uploads/2026/01/PCA-CHS-DrivingTour-April2026.png
ORGANIZER;CN="Chesapeake Region":MAILTO:webmaster@pcachs.org
END:VEVENT
END:VCALENDAR