BEGIN:VCALENDAR
VERSION:2.0
PRODID:-//Porsche Club of America - Chesapeake Region - ECPv6.15.20//NONSGML v1.0//EN
CALSCALE:GREGORIAN
METHOD:PUBLISH
X-ORIGINAL-URL:https://pcachs.org
X-WR-CALDESC:Events for Porsche Club of America - Chesapeake Region
REFRESH-INTERVAL;VALUE=DURATION:PT1H
X-Robots-Tag:noindex
X-PUBLISHED-TTL:PT1H
BEGIN:VTIMEZONE
TZID:America/New_York
BEGIN:DAYLIGHT
TZOFFSETFROM:-0500
TZOFFSETTO:-0400
TZNAME:EDT
DTSTART:20250309T070000
END:DAYLIGHT
BEGIN:STANDARD
TZOFFSETFROM:-0400
TZOFFSETTO:-0500
TZNAME:EST
DTSTART:20251102T060000
END:STANDARD
BEGIN:DAYLIGHT
TZOFFSETFROM:-0500
TZOFFSETTO:-0400
TZNAME:EDT
DTSTART:20260308T070000
END:DAYLIGHT
BEGIN:STANDARD
TZOFFSETFROM:-0400
TZOFFSETTO:-0500
TZNAME:EST
DTSTART:20261101T060000
END:STANDARD
BEGIN:DAYLIGHT
TZOFFSETFROM:-0500
TZOFFSETTO:-0400
TZNAME:EDT
DTSTART:20270314T070000
END:DAYLIGHT
BEGIN:STANDARD
TZOFFSETFROM:-0400
TZOFFSETTO:-0500
TZNAME:EST
DTSTART:20271107T060000
END:STANDARD
END:VTIMEZONE
BEGIN:VEVENT
DTSTART;TZID=America/New_York:20260202T183000
DTEND;TZID=America/New_York:20260202T203000
DTSTAMP:20260423T121803
CREATED:20251204T154756Z
LAST-MODIFIED:20260130T170658Z
UID:10000161-1770057000-1770064200@pcachs.org
SUMMARY:January Board Meeting (Rescheduled)
DESCRIPTION:NOTE: Due to the snow and ice storm on Jan 25th the January board meeting has been rescheduled for February 2nd.\nSame time\, same location. \n \nDate: February 2\, 2026\nTime: 6:30 pm – 8:30 pm \nLocation: Green Turtle in Hanover\, MD\n \nOur next board meeting is on Tuesday Jan 27th at the Green Turtle in Hanover. The meeting will start at 6:30 but and you can come earlier if you would like for a drink/appetizer at their bar area.\n \nSee you all there!
URL:https://pcachs.org/event/board-meeting/
LOCATION:Green Turtle – Hanover\, 7556 Teague Rd Ste 100\, Hanover\, MD\, 21076\, United States
CATEGORIES:Board Meeting
END:VEVENT
BEGIN:VEVENT
DTSTART;TZID=America/New_York:20260207T080000
DTEND;TZID=America/New_York:20260207T093000
DTSTAMP:20260423T121803
CREATED:20260117T191949Z
LAST-MODIFIED:20260117T191949Z
UID:10000197-1770451200-1770456600@pcachs.org
SUMMARY:SOCIAL BREAKFAST AT EGGCELLENCE BRUNCHERY
DESCRIPTION:Come out and join your fellow PCAers for a morning of fun in Annapolis.  We’ll meet Saturday morning\, February 7th\, at 8am in Annapolis. Eggcellence Brunchery features comfort food for breakfast including waffles\, pancakes\, build your own omelets\, benedicts and more. Check out their menu here. \nAll participants must register for the breakfast on  www.MotorsportReg.com by February 6th.\nSeating is limited to 30 people. There is no registration fee for this event. \nWHEN and WHERE \nWhen: February 7\, 2026\, Saturday \nMeeting time: 8:00am \nMeeting point: Eggcellence Brunchery restaurant\, Gateway Shopping Plaza\, 2625 Housley Road\, Annapolis   410-573-9503 \nEnd of social: 9:30am \nCost: Members are responsible for their own breakfast. Registration is free and required for planning purposes. \nREGISTRATION \n\nLog onto your Motorsportreg account at www.MotorsportReg.com\nRegistration will close at midnight on February 6th.\nThere is no fee for this event.\n\n  \nQUESTIONS \nSend social related questions to the Social Committee at social@pcachs.org.
URL:https://pcachs.org/event/social-breakfast-at-eggcellence-brunchery/
LOCATION:Eggcellence Brunchery\, Gateway Shopping Plaza\, 2625 Housley Road\, Annapolis\, MD\, United States
END:VEVENT
BEGIN:VEVENT
DTSTART;TZID=America/New_York:20260215T100000
DTEND;TZID=America/New_York:20260215T150000
DTSTAMP:20260423T121803
CREATED:20251204T161735Z
LAST-MODIFIED:20251204T161735Z
UID:10000162-1771149600-1771167600@pcachs.org
SUMMARY:Super Slot Car Racing
DESCRIPTION:REGISTER HERE\nSuper Slot Car Racing 2026 promises to be more exciting than ever. This will be the first time that we will be having the event at one of our local dealers and valued sponsor\, Porsche Annapolis. One of our Region’s winter family traditions and a fixture on our winter calendar for over 30 years\, this family event is scheduled to take place on Sunday afternoon from 10am – 3 PM\, February 15th in Annapolis\, Anne Arundel County. \nThere is a change this year.  This year with the gracious support of Porsche Annapolis the event will only cost $5.00 per adult.  Kids are free.   Also\, with Porsche Annapolis’s generous support\, they will be providing lunch for us as well. \nVolunteers are needed for the most fun packed family event during the winter season. We need help in setting up the track\, tables\, chairs\, breakdown and cleaning up after our event. Please let me know if you are available at 9am on Sunday\, February 15th to assist with setup. To volunteer\, just simply show up at 9am. \nAll participants must register for the event on www.MotorsportReg.com by Sunday\, February 6th\, to give us time to order trophies. \nWHEN and WHERE \n\nWhen: Sunday\, February 15\, 2026\nMeeting time: 10:00am\nMeeting point: Porsche Annapolis\, 20 Hudson Street\, Annapolis\, MD 21401\nEnd of social: 3:00pm\nCost: The cost is $5.00 per adult.  Kids are free.\nFood/ Will be provided by Porsche Annapolis.  If you would still like to bring Chili you are more than welcome.\nRacing trophies are awarded before/at 3pm\n\nREGISTRATION \nLog onto your Motorsportreg account or create one at www.MotorsportReg.com. Registration will open on Dec 6th and will close at midnight on February 6th. There is a registration fee for this event. \nREGISTER HERE\nOTHER INFORMATION \nThere will be loaner slot cars available for racing for those who do not have their own. \nSlot Car Racing for Beginners \nMembers are encouraged to purchase an Analog or Digital 1/32 scale Porsche slot car(s). Digital slot cars cost around 30% more and have the ability to be programmed and change lanes on more sophisticated\, digital race sets. Our club race set is an Analog track. \nA variety of Slot cars are best found for purchase on-line at Ebay\, Amazon and other hobby websites.  Local hobby shops do not offer the same selection. \nNew slot cars are encouraged as used slot cars may be broken and not operable.  There are many brands of slot cars (Carrera\, Scalextric\, Fly\, Ninco etc.)\, however\, we find the Carrera and Scalextric brands run best on our club track.  Prices range from around $30 to well over $100. \nPorsche model slot cars are highly encouraged; however\, other models may be raced. \nQUESTIONS \nSend slot car racing event related questions to the Slot Car Racing Chair\, Dan Zadra 981gt42016@gmail.com
URL:https://pcachs.org/event/super-slot-car-racing/
LOCATION:Porsche Annapolis\, 20 Hudson Street\, Annapolis\, MD\, 21401\, United States
CATEGORIES:Slot Car Racing
END:VEVENT
BEGIN:VEVENT
DTSTART;TZID=America/New_York:20260217T173000
DTEND;TZID=America/New_York:20260217T210000
DTSTAMP:20260423T121803
CREATED:20260203T033235Z
LAST-MODIFIED:20260203T033323Z
UID:10000198-1771349400-1771362000@pcachs.org
SUMMARY:Social Dinner at Blackwall Barn and Lodge
DESCRIPTION:TUESDAY\, February 17\, 2026 \nREGISTER HERE\nBlackwall Barn and Lodge – There’s nothing quite like enjoying a meal made with locally sourced ingredients while surrounded by the peacefulness of a countryside setting. The simplicity of rustic dining is refreshing\, as it focuses on natural flavors and wholesome ingredients. Every bite is bursting with flavor and nutrient rich goodness. Not only does this type of cuisine satisfy our taste buds\, it also provides us with a healthier and more sustainable way of eating.  Please mark your calendars for Tuesday night\, February 17 at 6:30pm (5:30 cocktails). You can view the dinner menu here. \nAll participants must register for the dinner on www.MotorsportReg.com by February 14th. \nSeating is limited to 40 people (you will be placed on the waitlist if the limit is met but may be contacted should anyone cancel and there is availability). There is no registration fee for this event. \nWHEN and WHERE \n\nWhen: February 17\, 2026\, Tuesday\nMeeting time: 6:30pm (5:30 for cocktails)\nMeeting point: 6000 Merriweather Drive Suite B140\, Columbia (443) 319-5566\nEnd of social: 9:00pm\nCost: Members are responsible for their own dinner. Registration is free and required for planning purposes.\n\nREGISTRATION \n\nThe eBlast announcing this event will have a weblink for registration. Click it.\nLog onto your Motorsportreg account or create one at MotorsportReg.com\nRegistration will close at midnight on Saturday\, February 14th.\nThere is no fee for this event.\n\nQUESTIONS \nSend social event related questions to the Social Committee at social@pcachs.org.
URL:https://pcachs.org/event/social-dinner-at-blackwall-barn-and-lodge-columbia/
LOCATION:MD
END:VEVENT
BEGIN:VEVENT
DTSTART;VALUE=DATE:20260221
DTEND;VALUE=DATE:20260223
DTSTAMP:20260423T121803
CREATED:20251229T031229Z
LAST-MODIFIED:20251229T031229Z
UID:10000171-1771632000-1771804799@pcachs.org
SUMMARY:Tech Tactics East
DESCRIPTION:Tech Tactics is a day dedicated to Porsche technical information. This event is for all Porsche enthusiasts\, from casual information gatherers to everyday Porsche mechanics. Get the latest news directly from the source. Topics range from balancing carburetors to understanding how the new hybrid systems work. \nThe event was born in 1980 in the heart of Zone One at the Harley Hotel north of Hartford\, CT. It quickly outgrew the facility and moved to the Springfield Sheraton\, where it resided for over twenty years.  By the 1990s\, it was the premier technical weekend for PCA\, featuring renowned speakers such as Norbert Singer\, Phil Hill\, Derek Bell\, and Brian Redman. \nBy 2007\, attendance was dwindling\, and a new venue was in order. The event was moved to the Farnbacher-Loles facility in Danbury\, CT. The move regenerated interest in the event\, with over 250 attendees. With the demise of the F-L facility\, we moved again and slightly changed direction in terms of format. \nIn 2011\, Tech Tactics became a PCA National Event and was hosted at the PCNA Training facility in Easton\, PA. Later that year\, PCA hosted the West Coast version in the same type of facility. This facility has been the perfect home for this “hands-on “type of event. This facility is used to train Porsche technicians on the intricacies of new Porsches and to provide valuable training on Porsches of the past. It is equipped with state-of-the-art classrooms with lifts and drivetrain assemblies\, which will be available for our event. In 2025\, the facility expanded its technical classroom footprint\, adding additional space for Porsche Classic training. We are excited to once again host Tech Tactics East at the Porsche Training Facility in February 2026. \nTech Tactics East is limited to 125 entrants per day. The day consists of lectures by PCNA Field Specialists\, PAG Project Managers\, members of the PCA Technical Committee\, and representatives from other companies\, including Michelin\, LN Engineering\, Total Seal\, and Griots Garage. \nBack for an eleventh year: Tech Tactics Die-cast Model Concours! This is a People’s Choice event\, with the winner receiving a special prize! Dust off your favorite die-cast model (in any scale)\, polish the wheels\, and bring it to the event for display. Please\, only one model per entrant. \nAll attendees must be pre-registered. There will be NO ON-SITE REGISTRATION. \n*Must be a PCA Member to attend. To join PCA or renew your membership\, please visit www.pca.org. \nIf you have any questions\, please don’t hesitate to contact Manny Alban at 410-381-0911 or mannya@pca.org. \nEVENT LOCATION: \nPorsche Training Facility\n170 Commerce Lane\nEaston\, PA 18045 \nREGISTRATION OPENS: Wednesday\, January 7\, 2026\, at 12:00 PM ET\nCOST:  $90.00 per person (per day) \nSATURDAY\, 2/21/26 – REGISTRATION LINK\nSUNDAY\, 2/22/26 – REGISTRATION LINK \n  \nContact Name: Manny Alban
URL:https://pcachs.org/event/tech-tactics-east/
LOCATION:MD
CATEGORIES:National Event,Tech Event
END:VEVENT
BEGIN:VEVENT
DTSTART;TZID=America/New_York:20260221T080000
DTEND;TZID=America/New_York:20260221T093000
DTSTAMP:20260423T121803
CREATED:20260213T192239Z
LAST-MODIFIED:20260213T192239Z
UID:10000202-1771660800-1771666200@pcachs.org
SUMMARY:SOCIAL BREAKFAST AT  EGGCELLENCE BRUNCHERY
DESCRIPTION:REGISTER HERE\nCome out and join your fellow PCAers for a morning of fun in Annapolis.  We’ll meet Saturday morning\, February 21st\, at 8am in Annapolis. Eggcellence Brunchery features comfort food for breakfast including waffles\, pancakes\, build your own omelettes\, benedicts and more. Check out their menu here. \nAll participants must register for the breakfast on www.MotorsportReg.com by February 20th. \nSeating is limited to 35 people. There is no registration fee for this event. \nWHEN and WHERE \n\nWhen: February 21\, 2026\, Saturday\nMeeting time: 8:00am\nMeeting point: Eggcellence Brunchery restaurant\, Gateway Shopping Plaza\, 2625 Housley Road\, Annapolis\, 410-573-9503\nEnd of social: 9:30am\nCost: Members are responsible for their own breakfast. Registration is free and required for planning purposes.\n\nREGISTRATION \n\nLog onto your Motorsportreg account at www.MotorsportReg.com\nRegistration will close at midnight on February 20th.\nThere is no fee for this event.\n\nQUESTIONS \nSend social related questions to the Social Committee at social@pcachs.org.
URL:https://pcachs.org/event/social-breakfast-at-eggcellence-brunchery-2/
LOCATION:Eggcellence Brunchery\, Gateway Shopping Plaza\, 2625 Housley Road\, Annapolis\, MD\, United States
CATEGORIES:Monthly Socials
END:VEVENT
END:VCALENDAR