BEGIN:VCALENDAR
VERSION:2.0
PRODID:-//Porsche Club of America - Chesapeake Region - ECPv6.15.20//NONSGML v1.0//EN
CALSCALE:GREGORIAN
METHOD:PUBLISH
X-ORIGINAL-URL:https://pcachs.org
X-WR-CALDESC:Events for Porsche Club of America - Chesapeake Region
REFRESH-INTERVAL;VALUE=DURATION:PT1H
X-Robots-Tag:noindex
X-PUBLISHED-TTL:PT1H
BEGIN:VTIMEZONE
TZID:America/New_York
BEGIN:DAYLIGHT
TZOFFSETFROM:-0500
TZOFFSETTO:-0400
TZNAME:EDT
DTSTART:20250309T070000
END:DAYLIGHT
BEGIN:STANDARD
TZOFFSETFROM:-0400
TZOFFSETTO:-0500
TZNAME:EST
DTSTART:20251102T060000
END:STANDARD
BEGIN:DAYLIGHT
TZOFFSETFROM:-0500
TZOFFSETTO:-0400
TZNAME:EDT
DTSTART:20260308T070000
END:DAYLIGHT
BEGIN:STANDARD
TZOFFSETFROM:-0400
TZOFFSETTO:-0500
TZNAME:EST
DTSTART:20261101T060000
END:STANDARD
BEGIN:DAYLIGHT
TZOFFSETFROM:-0500
TZOFFSETTO:-0400
TZNAME:EDT
DTSTART:20270314T070000
END:DAYLIGHT
BEGIN:STANDARD
TZOFFSETFROM:-0400
TZOFFSETTO:-0500
TZNAME:EST
DTSTART:20271107T060000
END:STANDARD
END:VTIMEZONE
BEGIN:VEVENT
DTSTART;TZID=America/New_York:20260117T173000
DTEND;TZID=America/New_York:20260117T213000
DTSTAMP:20260423T135450
CREATED:20251003T013457Z
LAST-MODIFIED:20251103T124041Z
UID:10000154-1768671000-1768685400@pcachs.org
SUMMARY:2026 After Holiday Party
DESCRIPTION:Come celebrate the end of 2025 and welcome in 2026! \nJoin us at the Turn House on Saturday\, January 17th for our annual After Holiday Party\, followed by the highly anticipated Yankee Swap conducted by “The Bob and Manny Show\,” with your hosts\, Bob Gutjahr and Manny Alban! \nThe Chesapeake Region has established a reputation for the finest and fiercest Yankee Swap in PCA\, one that has been copied by other regions\, but never quite duplicated. A “Gift Exchange” is merely a mild description of the feeding frenzy that takes hold at this triple steal event. Chesapeake Region\, despite being below the Mason Dixon Line\, puts the “Yankee” into Yankee Swap…. The good stuff is coveted\, hoarded and only grudgingly given up under duress. \nThis event regularly sells out quickly-so\, register early!\nEvent Details \nDate: Saturday\, January 17\, 2026 \nSchedule: \n\n5:30 PM – 6:30PM Cocktails & hors d’oeuvres\n6:30 PM Dinner\n7:15 PM Break\n7:30 PM Yankee Swap\n9:30 PM Event concludes\n\nLocation:  \nThe Turn House\, located in Hobbit’s Glen Gulf Club \n11130 Willow Bottom Drive\, Columbia\, MD 21044 \nWebsite: https://theturnhouse.com/ \nCost:  $65/person \nREGISTRATION: Is open now – CLOSES at midnight on December 31st  \n\nAttendance is capped at 75 people. We will work to reduce the waitlist\nNo refunds after December 31st\nOn MotorsportReg each person may select either Salmon or Flank Steak for their entrée\n\nvisit: www.MotorsportReg.com to register \nYANKEE SWAP INFORMATION \n\n1 gift per couple\nGifts should be Porsche/car/club related\nGifts should be $25 to $50\, or more if you are feeling generous\n\nPlease do not bring any gift that you would not be happy to go home with. Damaged\, broken\, or gifts that are otherwise immediately destined for the trash or goodwill are not appropriate\, or fun for anyone. \nIf you have any additional questions\, please contact the social committee at social@pcachs.org
URL:https://pcachs.org/event/2026-after-holiday-party/
LOCATION:MD
CATEGORIES:After Holiday Party
END:VEVENT
END:VCALENDAR