BEGIN:VCALENDAR
VERSION:2.0
PRODID:-//Porsche Club of America - Chesapeake Region - ECPv6.15.20//NONSGML v1.0//EN
CALSCALE:GREGORIAN
METHOD:PUBLISH
X-ORIGINAL-URL:https://pcachs.org
X-WR-CALDESC:Events for Porsche Club of America - Chesapeake Region
REFRESH-INTERVAL;VALUE=DURATION:PT1H
X-Robots-Tag:noindex
X-PUBLISHED-TTL:PT1H
BEGIN:VTIMEZONE
TZID:America/New_York
BEGIN:DAYLIGHT
TZOFFSETFROM:-0500
TZOFFSETTO:-0400
TZNAME:EDT
DTSTART:20240310T070000
END:DAYLIGHT
BEGIN:STANDARD
TZOFFSETFROM:-0400
TZOFFSETTO:-0500
TZNAME:EST
DTSTART:20241103T060000
END:STANDARD
BEGIN:DAYLIGHT
TZOFFSETFROM:-0500
TZOFFSETTO:-0400
TZNAME:EDT
DTSTART:20250309T070000
END:DAYLIGHT
BEGIN:STANDARD
TZOFFSETFROM:-0400
TZOFFSETTO:-0500
TZNAME:EST
DTSTART:20251102T060000
END:STANDARD
BEGIN:DAYLIGHT
TZOFFSETFROM:-0500
TZOFFSETTO:-0400
TZNAME:EDT
DTSTART:20260308T070000
END:DAYLIGHT
BEGIN:STANDARD
TZOFFSETFROM:-0400
TZOFFSETTO:-0500
TZNAME:EST
DTSTART:20261101T060000
END:STANDARD
END:VTIMEZONE
BEGIN:VEVENT
DTSTART;VALUE=DATE:20250830
DTEND;VALUE=DATE:20250907
DTSTAMP:20260423T202018
CREATED:20241215T134842Z
LAST-MODIFIED:20250105T220342Z
UID:10000080-1756512000-1757203199@pcachs.org
SUMMARY:Treffen at Sea
DESCRIPTION:The Treffen At Sea will depart from NYC on August 30\, and return on September 6th.
URL:https://pcachs.org/event/treffen-at-sea-2/
LOCATION:MD
CATEGORIES:National Event
END:VEVENT
BEGIN:VEVENT
DTSTART;VALUE=DATE:20250906
DTEND;VALUE=DATE:20250907
DTSTAMP:20260423T202018
CREATED:20241215T135332Z
LAST-MODIFIED:20250208T163538Z
UID:10000087-1757116800-1757203199@pcachs.org
SUMMARY:AX 6 @ Ripken
DESCRIPTION:Autocross consists of navigating your car faster than your competition through a course delineated by soft orange traffic cones which will not damage your car. Events are run at speeds typically between 25-70 MPH\, usually in 2nd gear. Autocross is a performance driving event emphasizing a car’s handling and is an exciting way to experience driving your car at its limit. You not only learn how to handle your car at speeds that you drive daily\, but you also: \n\nGain confidence in your driving ability\nLearn the limits of your car’s brakes\nLearn correct seating\, hand\, and feet positions for optimum car control\nLearn the limits of your car’s handling\n\nNote\, too\, that Autocross is a social gathering of new and old friends and an opportunity to have LOTS OF FUN with your car! \nEntry Details (all makes and models are welcome) \n\nDate: Saturday September 6\, 2025\nEntry Fee:\n\nPCA Member Pre-registration Entry fee: $60\nNon-PCA Member Pre-registration Entry fee: $70\nFor those who are interested in autocross\, but unsure if they want to try it (or just plain curious)\, we offer a “Taste of Autocross.” For $5\, you will have the opportunity to ride with our instructors for several runs and experience the thrill!\n\n\nMSR Registration will be capped at 80 drivers. If the cap is met after registration\, you will be waitlisted and may be eligible to attend if entries become available.\nThere are no walk-ups available for this event.\nPayment information will be taken on-line at registration\, but not charged until 2-weeks before the race.\n\nVenue: \n\nRipken Stadium\, Aberdeen\, MD:\n\nRipken Stadium\n\n\n\nEvent Schedule: This is a rough schedule for the day of the event: \n0700: The venue opens to participants\n0730: Registration / Check-In opens\n0730: Tech opens\n0830: Course opens for walking\n0830: Registration / Tech closes\n0840 – 0900: Guided course walk\n0910 – 0920: Driver meeting\n0930: First car off\n1530 (approx): Event complete \nClass Structure: \nPrior to registering\, please review the details below to help you finish the registration process. \n\nSCCA classes for non-Porsches: Rules and classes can be found here:\n\nVia link to the rule book at the SCCA website: 2025 SCCA SOLO Rules (Jan Edition). (Car classes begin on p. 184 ff of the Jan edition.)\n\nDuring registration\, you will first select “Non-Porsche (using SCCA classing)” as your Class before selecting your specific 2025 SCCA class in the “Modifier” field.\n\n\nRules for CHS PCA AX events can be found here: Chesapeake PCA Autocross Rules\n\n\nPorsche classes:\n\nThere are four categories – Showroom stock (S)\, Production (P)\, Improved (I)\, and Modified (M)\nClassing information for Porsches is contained in the CHS PCA AX rules found on the Club website: Chesapeake PCA Autocross Rules.\n\n\n\nNoise Restrictions: \nDue to the proximity of condos to the racing area\, the Chesapeake PCA will monitor and deal with the noise level of cars in accordance with the SCCA sound measurement procedure found in the 2025 SCCA SOLO Rules (Jan Edition)on p. 325 ff. In a nutshell\, car noise will be measured and required to be below 108 dBc per the measurement protocol. \nRegistration: \n\nRegister for this event at MotorSportReg.com:\n\nmsreg.com/2025CHSPCA-AX6
URL:https://pcachs.org/event/ax-6-ripken/
LOCATION:Ripken Stadium\, 873 Long Drive\, Aberdeen\, Maryland\, 21001
CATEGORIES:Autocross
END:VEVENT
BEGIN:VEVENT
DTSTART;TZID=America/New_York:20250913T100000
DTEND;TZID=America/New_York:20250913T140000
DTSTAMP:20260423T202018
CREATED:20241215T134654Z
LAST-MODIFIED:20250105T174805Z
UID:10000078-1757757600-1757772000@pcachs.org
SUMMARY:PCA National Office Open house
DESCRIPTION:Porsche Club Of America National Office Open House\nSaturday September 13\, 2025 to Saturday September 13\, 2025 | Event Type: Social\n10:00 AM – 2:00 PM\nGet ready for our Annual Open House as we celebrate 14 years at the PCA National Office! Join us on Saturday\, September 13\, 2025\, for an afternoon filled with beautiful Porsches and fun with fellow Club members. Kids are welcome too! \nYou will learn the exciting history of PCA from our Executive Director\, Vu Nguyen. You can also purchase PCA Merchandise\, listen to great music\, and eat a delicious lunch from Mission BBQ. And\, of course\, we will be raffling off amazing prizes. Hope to see you there! \nPlease note that you must be PRE-REGISTERED TO ATTEND. \n*Limit of 20 people per tour. Tour tickets with specific time slots will be handed out onsite. \nLocation: Porsche Club of America\n9689 Gerwig Lane\, Unit 4C/D\, Columbia\, MD 21046  \nRegistration opens Wednesday\, 7/23/25 at 12:00 PM ET\nRegistration closes Wednesday\, 8/27/25. 
URL:https://pcachs.org/event/pca-national-open-house-2/
LOCATION:PCA National Headquarters\, 9689 Gerwig Lane\, Unit 4C/D\, Columbia\, MD\, 21046\, United States
CATEGORIES:National Event
END:VEVENT
BEGIN:VEVENT
DTSTART;VALUE=DATE:20250914
DTEND;VALUE=DATE:20250915
DTSTAMP:20260423T202018
CREATED:20250208T183650Z
LAST-MODIFIED:20250208T185946Z
UID:10000121-1757808000-1757894399@pcachs.org
SUMMARY:Pending
DESCRIPTION:More to come!
URL:https://pcachs.org/event/pending-2/
LOCATION:MD
CATEGORIES:Tours & Rallies
END:VEVENT
BEGIN:VEVENT
DTSTART;TZID=America/New_York:20250916T173000
DTEND;TZID=America/New_York:20250916T203000
DTSTAMP:20260423T202018
CREATED:20250811T192324Z
LAST-MODIFIED:20250811T192324Z
UID:10000149-1758043800-1758054600@pcachs.org
SUMMARY:Social Dinner at LoonAsea Restaurant
DESCRIPTION:Mark your calendars for Tuesday September 16\, 2025 at 6:30pm (cocktails at 5:30) at LoonASea in Essex\, MD.  Located on the banks of Hopkins Creek\, LoonAsea is Maryland’s newest casual waterfront restaurant\, and the menu features staple favorites while also offering a selection of “totally different\, seafood-based and local items”. \nAll participants will need register for the dinner on www.motorsportreg.com. Seating is limited to 60 people (you will be placed on the waitlist if the limit is met but may be contacted should anyone cancel and there is availability).  There is no registration fee for this event. \nCheck out their menu here. \nAll participants must register here by September 13. \nWHEN and WHERE \n\nWhen: September 16\, 2025\, Tuesday\nMeeting time: 6:30pm (cocktails at 5:30)\nMeeting point: LoonAsea Restaurant\, 207 Nanticoke Rd\, Essex 443-505-8895\nEnd of social: 8:30pm\nCost: Members are responsible for their own dinner. Registration is free and required for planning purposes.\n\nREGISTRATION \n\nRegistration will close at midnight on Saturday\, September 13.\nIf you have already registered and need help to cancel your registration\, refer to this link for detailed instructions.\n\nQUESTIONS \nSend social related questions to the Social Committee at social@pcachs.org.
URL:https://pcachs.org/event/social-dinner-at-loonasea-restaurant/
LOCATION:MD
CATEGORIES:Monthly Socials
END:VEVENT
BEGIN:VEVENT
DTSTART;VALUE=DATE:20250920
DTEND;VALUE=DATE:20250921
DTSTAMP:20260423T202018
CREATED:20250208T183650Z
LAST-MODIFIED:20250619T001753Z
UID:10000122-1758326400-1758412799@pcachs.org
SUMMARY:Chesapeake Challenge 56 Gimmick Rally and Concours
DESCRIPTION:Sponsored by Porsche Hunt Valley\n \n\nThe Chesapeake Region invites you to attend the 56th Annual Chesapeake Challenge! This event has something for EVERY Porsche driver and enthusiast. People get together to look at and show their Porsches while having a fun-filled day of activities\, good food\, and great company! If only your morning is free\, during the morning Concours event we welcome PCA members and their guests to view the cars and socialize. \nFor over 50 years\, Chesapeake Region has invited its members and friends to celebrate the annual Chesapeake Challenge – the oldest running multi-event weekend in PCA history. The Challenge quickly became popular among Mid-Atlantic owners\, and attendance grew to well over a hundred cars in the ensuing years. The Challenge has moved around Maryland throughout its history. \nThe 56th Chesapeake Challenge – Saturday\, September 20th \nThere will be a continental breakfast (fruit\, donuts and coffee)\, Concours\, Lunch\, Gimmick Rally\, Tech Quiz\, Cocktail and appetizer hour\, and Awards Dinner. \nThis year’s event will be held entirely at Frey’s Brewery in Mt Airy\, Maryland. \nThere will be a continental breakfast (fruit\, donuts and coffee) in the morning. \nCONCOURS – The day will open with a Concours d’Elegance with cars grouped into Full Concours\, Street/Prepared Concours\, and Display Only. In addition to the standard class awards\, Full Concours cars will compete for the coveted Knowlton P. Long / Lufthansa Trophy\, while Street/Prepared cars will compete for the Chesapeake Cup award. All Concours cars\, including the Display Class\, will compete for People’s Choice award. \nBREAKFAST – A light breakfast and coffee will be served. \nLUNCH – A lunch will be served. \nGIMMICK RALLY – After lunch\, a Gimmick Rally will be held featuring a scenic and delightful route created by Rich Ehrlich\, made even more enjoyable and satisfying by clever gimmicks. Individual 1st\, 2nd\, and 3rd place trophies will be awarded to the top-performing drivers and navigators. \nTECH QUIZ – Upon your return\, we will participate in a Tech quiz prepared by our illustrious Tech Team\, testing your Porsche knowledge. The quiz is intended to be FUN and a learning experience. It is multiple choice\, so anyone is likely to win! All attendees are encouraged to participate in the Tech Quiz. Even the best multiple-choice guessers have been known to win a trophy or two! \nDINNER – The final event of the day is the Awards Dinner. Following dinner\, we will have the awards ceremony. \nSILENT AUCTION – There will be a silent auction of Porsche / car enthusiast items held throughout the day to raise money for the Boys & Girls Clubs of Carroll County. The Boys & Girls Clubs of Carroll County’s mission is “To enable all young people\, especially those who need us most\, to realize their full potential as productive\, responsible and caring citizen.” When you register please sign up to donate items to be auctioned off the charity. Be ready to bid on the many terrific items available at the auction table to support the Boys & Girls Clubs of Carroll County! You may learn more about this worthwhile charity on their website bgccarrollcounty.org. \nKnowlton P. Long / Lufthansa Award – For the attendee that scores the best in all three events\, Full Concours\, Gimmick Rally\, and Tech Quiz\, they will be awarded the coveted Knowlton P. Long Award. Their name will be placed on the trophy\, and they will receive an elite take-home trophy in honor of their accomplishment! \nChesapeake Cup Award – For the attendee that scores the best in all three events\, Street/Prepared Concours\, Gimmick Rally\, and Tech Quiz\, they will be awarded the Chesapeake Cup Award. They will receive a take-home trophy in honor of their accomplishment! \nSo come and join us for a fun-filled day of Porsches and people. All of your favorite cars and friends will be there\, and so should you! \nIt’s not just the cars\, it’s the people. \nWHEN and WHERE \n\nWHEN: Saturday\, September 20\, 2025\, Event Sign-In Table to open at 7:30 AM\nWHERE: Frey’s Brewery\, 8601 Mapleville Road\, Mt Airy\, MD 21771\nSchedule:\n\n7:30 AM — Event opens for sign-in\, continental breakfast & Concours Preparation\n9:00 – 11:00 — Concours judging\nNoon – 1:00 — Lunch\n1:00 – 4:00 — Gimmick Rally\n4:00 – 4:30 — Tech Quiz\n4:00 – 5:00 – Cocktails and Appetizers\n5:00 – 7:00 PM — Dinner & Awards Banquet\n\n\n\nREGISTRATION \n\nCOST: $10/PERSON – Morning only option\n\nYour fee is good for viewing the cars on display during the Concours event and continental breakfast.\nMotorsporReg charges a $2 booking fee for every registration (not for every person). Minors are free.\n\n\nCOST: $75/PERSON – Chesapeake Challenge Competition\n\nYour fee is good for Concours event in the morning\, Gimmick Rally\, Tech Quiz\, Commemorative swag\, breakfast\, lunch and dinner per person.\nMotorsportReg charges a $2 booking fee for every registration (not for every person).\n\n\nCOST: $30/SHIRT – Chesapeake Challenge 56 logo shirt\nRegistration on Motorsportreg.com closes at midnight on September 10\nThere will be a limit of 100 attendees\nPlease fill out ALL sections of the event registration\nSpeedwaiver: https://pcachesapeake.speedwaiver.com/jzfip\n\nQUESTIONS: Please feel free to contact ChesapeakeChallenge@pcachs.org
URL:https://pcachs.org/event/chesapeake-challenge-56-gimmick-rally/
LOCATION:MD
CATEGORIES:Chesapeake Challenge,Concours,Tours & Rallies
END:VEVENT
BEGIN:VEVENT
DTSTART;TZID=America/New_York:20250924T183000
DTEND;TZID=America/New_York:20250924T203000
DTSTAMP:20260423T202018
CREATED:20250806T200241Z
LAST-MODIFIED:20250806T200241Z
UID:10000148-1758738600-1758745800@pcachs.org
SUMMARY:Board Meeting
DESCRIPTION:Board Meeting \nGreen Turtle \n7556 Teague Rd Ste 100\, Hanover\, MD 21076 \nGather at 6:00 pm \nMeeting starts at 6:30 pm
URL:https://pcachs.org/event/board-meeting-2/
LOCATION:MD
CATEGORIES:Board Meeting
END:VEVENT
BEGIN:VEVENT
DTSTART;TZID=America/New_York:20250927T090000
DTEND;TZID=America/New_York:20250927T110000
DTSTAMP:20260423T202018
CREATED:20250619T001020Z
LAST-MODIFIED:20250828T115416Z
UID:10000147-1758963600-1758970800@pcachs.org
SUMMARY:New Member Party and Facility Tour @ Porsche Annapolis
DESCRIPTION:You’re Invited to our Official New Member Party \nAre you ready to join the fun? As a member of the PCA Chesapeake Region\, we have all kinds of events to help you enjoy the club and your Porsche.  As a new or recently new member\, it would be great if you could join us at our upcoming New Member Meeting on Saturday\, September 27th beginning at 10am. \nYou’ll get a chance to meet the officers and hear from and talk to Chesapeake’s many different Event Chairs and find out about all the activities that are being planned for the year. You’ll also get a swag bag full of Chesapeake goodies and participate in the raffles for additional door prizes. This party is not to be missed if you are new or fairly new to Chesapeake and want to find out what we are all about. \nEVENT DETAILS \n\nDate: Saturday\, September 27th\, 2025\nLocation: Porsche Annapolis\nTime: 9:00am to 11:00am\nCost: Free\n\nIf you have already registered and need help to cancel your registration\, refer to this link for detailed instructions.\n\n\n\nQUESTIONS \nFeel free to reach out the Membership Chairs at membership@pcachs.org
URL:https://pcachs.org/event/nmp1025/
LOCATION:Porsche Annapolis\, 20 Hudson Street\, Annapolis\, MD\, 21401\, United States
CATEGORIES:New Member Party
END:VEVENT
END:VCALENDAR