BEGIN:VCALENDAR
VERSION:2.0
PRODID:-//Porsche Club of America - Chesapeake Region - ECPv6.15.20//NONSGML v1.0//EN
CALSCALE:GREGORIAN
METHOD:PUBLISH
X-ORIGINAL-URL:https://pcachs.org
X-WR-CALDESC:Events for Porsche Club of America - Chesapeake Region
REFRESH-INTERVAL;VALUE=DURATION:PT1H
X-Robots-Tag:noindex
X-PUBLISHED-TTL:PT1H
BEGIN:VTIMEZONE
TZID:America/New_York
BEGIN:DAYLIGHT
TZOFFSETFROM:-0500
TZOFFSETTO:-0400
TZNAME:EDT
DTSTART:20240310T070000
END:DAYLIGHT
BEGIN:STANDARD
TZOFFSETFROM:-0400
TZOFFSETTO:-0500
TZNAME:EST
DTSTART:20241103T060000
END:STANDARD
BEGIN:DAYLIGHT
TZOFFSETFROM:-0500
TZOFFSETTO:-0400
TZNAME:EDT
DTSTART:20250309T070000
END:DAYLIGHT
BEGIN:STANDARD
TZOFFSETFROM:-0400
TZOFFSETTO:-0500
TZNAME:EST
DTSTART:20251102T060000
END:STANDARD
BEGIN:DAYLIGHT
TZOFFSETFROM:-0500
TZOFFSETTO:-0400
TZNAME:EDT
DTSTART:20260308T070000
END:DAYLIGHT
BEGIN:STANDARD
TZOFFSETFROM:-0400
TZOFFSETTO:-0500
TZNAME:EST
DTSTART:20261101T060000
END:STANDARD
END:VTIMEZONE
BEGIN:VEVENT
DTSTART;TZID=America/New_York:20250723T120000
DTEND;TZID=America/New_York:20250723T120000
DTSTAMP:20260424T000959
CREATED:20250105T175040Z
LAST-MODIFIED:20250105T175040Z
UID:10000092-1753272000-1753272000@pcachs.org
SUMMARY:PCA National Office Open House Registration
DESCRIPTION:Registration Link to be provided when published by PCA.
URL:https://pcachs.org/event/pca-national-office-open-house-registration/
LOCATION:MD
END:VEVENT
BEGIN:VEVENT
DTSTART;VALUE=DATE:20250726
DTEND;VALUE=DATE:20250727
DTSTAMP:20260424T000959
CREATED:20250208T183635Z
LAST-MODIFIED:20250706T192755Z
UID:10000118-1753488000-1753574399@pcachs.org
SUMMARY:Return to Bonkey's
DESCRIPTION:Join us on Saturday\, July 26th\, for our long-awaited return to Bonkey’s in Whiteford\, Maryland. This tour is the creation of Guest Tour Master and PCA Chesapeake’s Vice-President Mark Miller and features some of the best backroads you can find in Carroll\, Baltimore\, and Harford County. Of course\, the tour will end at Bonkey’s where we will enjoy some delicious ice cream. \nAbout Bonkey’s \nBonkey’s is a small family-run business with several locations in Maryland\, Delaware\, and Pennsylvania. It  offers a wide assortment of homemade flavors\, as well as a large selection of toppings\, so you can create your perfect ice cream treat. More information can be found here: https://www.bonkeys.com/. \nPre-Tour Lunch (Optional) \nWe will have an optional pre-tour lunch starting at 12:30 pm at Cinco De Mayo-Hampstead\, 721 Hanover Pike\, Hampstead\, MD\, 21074. They are a family run restaurant that has grown so popular that they now have eight locations. Their food is reasonably priced and is yummy (you will be responsible for paying your bill). More information on Cinco De Mayo can be found here; https://www.cincodemayorest.com/. \nPlease be aware that the capacity limit for this lunch is smaller than that for the tour. There are also other nearby restaurants in the same shopping center\, including Genova’s. \nWHEN and WHERE \n  \n\nAssembly Point:  The Upperco\, MD\, address will be sent to confirmed registrants by July 25th\nWhen: Saturday\, July 26th at 2:00 PM\nDriver’s Meeting: 2:15 PM\nDeparture: First cars off at 2:30 PM\nDestination: Bonkey’s Ice Cream\, 1502 Main Street\, Whiteford\, MD 21160\nDistance: 60 miles\nETA: Approximately 90 minutes\n\nPARTICIPATION  \nBy signing up for and joining any of our driving events\, registrants acknowledge and assume all the risks in and full responsibility for their participation. PCA waiver forms must be completed and signed by all\, online or on paper. Note that planned events are subject to change\, for weather-related or other reasons. \nREGISTRATION \n\nRegistration is open and will close at 1 PM on July 23rd.\nPCA members and their guests must be registered and confirmed to join this event.\nDrivers must be adult PCA members with a valid driver’s license.\nFee $5 per adult; maximum fee $10 per car; minors (17 and younger) free.\nMotorsportReg charges a new $2 booking fee for every registration (not for every person).\nRoute instructions and other documents will be sent to confirmed registrants via e-mail by July 25th. If you have not received the documents by 6 PM on July 25th\, please email tour@pcachs.org.\nThis event has capacity limits for cars and people.\nWhen you register\, please indicate whether you and your passenger(s) will attend the pre-tour lunch.\n\nQUESTIONS: Send tour-related questions to Rich Ehrlich\, Tour & Rally Committee\, attour@pcachs.org. \nTo preview and register for upcoming Tours\, visit the Tour and Rally page on PCACHS.org: https://pcachs.org/tour-and-rally/
URL:https://pcachs.org/event/returntobonkeys2025/
LOCATION:MD
CATEGORIES:Tours & Rallies
END:VEVENT
BEGIN:VEVENT
DTSTART;VALUE=DATE:20250726
DTEND;VALUE=DATE:20250727
DTSTAMP:20260424T000959
CREATED:20250508T022358Z
LAST-MODIFIED:20250616T194325Z
UID:10000140-1753488000-1753574399@pcachs.org
SUMMARY:Porsche Owings Mills - New Member Party and Project Car Reveal
DESCRIPTION:Reveal of Porsche Owings Mills Project Car – Part 2 \nPorsche Owings Mills is excited to announce our participation in the Porsche Restoration Challenge 2025! \nOn April 19th our valued sponsor\, Porsche Owings Mills\, showcased to our members a special one-owner 1999 Carrera Coupe\, finished in Mirage Metallic with Savanna Beige leather interior to compete in the 2025 Porsche Restoration Challenge. Their goal is to reduce weight\, enhance aerodynamics\, and boost engine performance\, creating the ultimate driver’s 996 into our vision of the “996 Club Sport.”  Currently the car is in the body shop getting outfitted and should be ready for the paint shop in the next few weeks.  Color TBA. We look forward to seeing you at the Reveal! \nThis event also presents a prime opportunity to connect with the Porsche Owings Mills dedicated team and delve into any technical inquiries you may have about Porsches. \n#porschechallenge25 #porscheowingsmills \nAll participants must register for the event on www.MotorsportReg.com by July 25\, 2025. \nEVENT DETAILS \n\nEveryone must register here for this event at www.MotorsportReg.com \nEveryone MUST sign a waiver for this event –  https://pcachesapeake.speedwaiver.com/pwxik\nDate: Saturday\, July 26\, 2025\nLocation: Porsche Owings Mills; 11309 Reisterstown Road; Owings Mills\, MD 21117\nTime: 10:00am – 11:30 am (doors open at 9:30 am)\nCost: Free\n\nQUESTIONS \nFeel free to reach out to Jonathan Silverman\, POM Dealer Liaison\, pomliaison@pcachs.org
URL:https://pcachs.org/event/porsche-owings-mills-new-member-party-and-project-car-reveal-finished/
LOCATION:MD
CATEGORIES:New Member Party,Tech Event
END:VEVENT
END:VCALENDAR