BEGIN:VCALENDAR
VERSION:2.0
PRODID:-//Porsche Club of America - Chesapeake Region - ECPv6.15.20//NONSGML v1.0//EN
CALSCALE:GREGORIAN
METHOD:PUBLISH
X-WR-CALNAME:Porsche Club of America - Chesapeake Region
X-ORIGINAL-URL:https://pcachs.org
X-WR-CALDESC:Events for Porsche Club of America - Chesapeake Region
REFRESH-INTERVAL;VALUE=DURATION:PT1H
X-Robots-Tag:noindex
X-PUBLISHED-TTL:PT1H
BEGIN:VTIMEZONE
TZID:America/New_York
BEGIN:DAYLIGHT
TZOFFSETFROM:-0500
TZOFFSETTO:-0400
TZNAME:EDT
DTSTART:20250309T070000
END:DAYLIGHT
BEGIN:STANDARD
TZOFFSETFROM:-0400
TZOFFSETTO:-0500
TZNAME:EST
DTSTART:20251102T060000
END:STANDARD
BEGIN:DAYLIGHT
TZOFFSETFROM:-0500
TZOFFSETTO:-0400
TZNAME:EDT
DTSTART:20260308T070000
END:DAYLIGHT
BEGIN:STANDARD
TZOFFSETFROM:-0400
TZOFFSETTO:-0500
TZNAME:EST
DTSTART:20261101T060000
END:STANDARD
BEGIN:DAYLIGHT
TZOFFSETFROM:-0500
TZOFFSETTO:-0400
TZNAME:EDT
DTSTART:20270314T070000
END:DAYLIGHT
BEGIN:STANDARD
TZOFFSETFROM:-0400
TZOFFSETTO:-0500
TZNAME:EST
DTSTART:20271107T060000
END:STANDARD
END:VTIMEZONE
BEGIN:VEVENT
DTSTART;VALUE=DATE:20261011
DTEND;VALUE=DATE:20261012
DTSTAMP:20260423T135038
CREATED:20260110T220807Z
LAST-MODIFIED:20260110T220807Z
UID:10000192-1791676800-1791763199@pcachs.org
SUMMARY:Tour
DESCRIPTION:A tour by Guest Tour masters Craig and Linda Davidson
URL:https://pcachs.org/event/tour-3/
CATEGORIES:Tours & Rallies
END:VEVENT
BEGIN:VEVENT
DTSTART;VALUE=DATE:20261107
DTEND;VALUE=DATE:20261108
DTSTAMP:20260423T135038
CREATED:20260110T220844Z
LAST-MODIFIED:20260110T220844Z
UID:10000193-1794009600-1794095999@pcachs.org
SUMMARY:West Virginia Fall Colors Tour
DESCRIPTION:
URL:https://pcachs.org/event/west-virginia-fall-colors-tour/
CATEGORIES:Tours & Rallies
END:VEVENT
BEGIN:VEVENT
DTSTART;VALUE=DATE:20261205
DTEND;VALUE=DATE:20261206
DTSTAMP:20260423T135038
CREATED:20260110T220927Z
LAST-MODIFIED:20260110T220927Z
UID:10000194-1796428800-1796515199@pcachs.org
SUMMARY:Linda’s Legacy Tour
DESCRIPTION:
URL:https://pcachs.org/event/lindas-legacy-tour/
LOCATION:Porsche Hunt Valley\, 10260 York Road\, Cockeysville\, 21030\, United States
CATEGORIES:Tours & Rallies
END:VEVENT
END:VCALENDAR