BEGIN:VCALENDAR
VERSION:2.0
PRODID:-//Porsche Club of America - Chesapeake Region - ECPv6.15.20//NONSGML v1.0//EN
CALSCALE:GREGORIAN
METHOD:PUBLISH
X-ORIGINAL-URL:https://pcachs.org
X-WR-CALDESC:Events for Porsche Club of America - Chesapeake Region
REFRESH-INTERVAL;VALUE=DURATION:PT1H
X-Robots-Tag:noindex
X-PUBLISHED-TTL:PT1H
BEGIN:VTIMEZONE
TZID:America/New_York
BEGIN:DAYLIGHT
TZOFFSETFROM:-0500
TZOFFSETTO:-0400
TZNAME:EDT
DTSTART:20250309T070000
END:DAYLIGHT
BEGIN:STANDARD
TZOFFSETFROM:-0400
TZOFFSETTO:-0500
TZNAME:EST
DTSTART:20251102T060000
END:STANDARD
BEGIN:DAYLIGHT
TZOFFSETFROM:-0500
TZOFFSETTO:-0400
TZNAME:EDT
DTSTART:20260308T070000
END:DAYLIGHT
BEGIN:STANDARD
TZOFFSETFROM:-0400
TZOFFSETTO:-0500
TZNAME:EST
DTSTART:20261101T060000
END:STANDARD
BEGIN:DAYLIGHT
TZOFFSETFROM:-0500
TZOFFSETTO:-0400
TZNAME:EDT
DTSTART:20270314T070000
END:DAYLIGHT
BEGIN:STANDARD
TZOFFSETFROM:-0400
TZOFFSETTO:-0500
TZNAME:EST
DTSTART:20271107T060000
END:STANDARD
END:VTIMEZONE
BEGIN:VEVENT
DTSTART;TZID=America/New_York:20260328T083000
DTEND;TZID=America/New_York:20260328T140000
DTSTAMP:20260423T153029
CREATED:20260110T215710Z
LAST-MODIFIED:20260114T024314Z
UID:10000179-1774686600-1774706400@pcachs.org
SUMMARY:Tour Lead\, Sweep\, and Development Academy
DESCRIPTION:Tour Lead\, Sweep\, and Development Academy \nPCA-CHS 2026 Tour & Rally Event No. 1 – Saturday\, March 28th  \nDo you have a great idea for a tour\, but weren’t sure how to create the route and plan your tour? Are you interested in leading a tour group\, but aren’t sure how to do it? Do you want to improve your skills in leading and sweeping tours and in planning tours? \nTo help you achieve these goals\, Porsche Silver Spring will host the tour academy in their beautiful facility. The morning will start with a continental breakfast followed by several classes focused on leading and sweeping tours\, using the radio and the Scenic app\, and how to plan a great tour. \nWe will then break into smaller groups where participants will get a chance to lead and sweep a group of their own during a practice tour. We will end the academy at Restaurant 198 in Burtonsville\, MD\, where we will enjoy lunch\, finishing off the academy with a brief award ceremony. \nYour registration fee of $10 per adult includes both the continental breakfast\, as well as your lunch. \nGATHERING PLACE and SCHEDULE  \n\nWhere: Porsche Silver Spring\nWhen: Saturday\, March 28th\nGathering time: 8:30 am\nClasses start: 9:00 am\nPractice tour start: 12:00 pm\nDistance and driving time: Approximately 40 miles/60 minutes\nAwards ceremony: Approximately 1:30 pm.\nLunch at Restaurant 198: Immediately after the awards ceremony.\n\nPARTICIPATION  \n By signing up for and joining any of our driving events\, registrants acknowledge and assume all the risks in and full responsibility for their participation. PCA waiver forms must be completed and signed by all\, online or on paper. Note that planned events are subject to change\, for weather-related or other reasons. \nREGISTRATION \n\nLog on to your account at MotorsportReg.com and sign up before 1:00 pm on March 25th.\n$10 registration fee for each adult. Maximum fee $20 per car. No fee for minors (17 and younger).\nMotorsportReg charges a $2 service fee per registration (not for every person).\nClass materials\, route instructions\, and other documents will be sent to confirmed registrants via email by 6:00 pm on March 27th.\nDrivers must be adult PCA members with a valid driver’s license. Navigators will be needed for the practice tour and must be 13 or older. We will do our best to pair people up on the day of the event if needed.\n\nQUESTIONS: Please send questions to Rich Ehrlich\, Tour & Rally Committee\, at tour@pcachs.org. \n  \n 
URL:https://pcachs.org/event/tour-lead-sweep-and-development-academy/
LOCATION:Porsche Silver Spring\, 3131 Automobile Blvd\, Silver Spring\, MD\, 20904\, United States
CATEGORIES:Tours & Rallies
END:VEVENT
END:VCALENDAR