BEGIN:VCALENDAR
VERSION:2.0
PRODID:-//Porsche Club of America - Chesapeake Region - ECPv6.15.20//NONSGML v1.0//EN
CALSCALE:GREGORIAN
METHOD:PUBLISH
X-WR-CALNAME:Porsche Club of America - Chesapeake Region
X-ORIGINAL-URL:https://pcachs.org
X-WR-CALDESC:Events for Porsche Club of America - Chesapeake Region
REFRESH-INTERVAL;VALUE=DURATION:PT1H
X-Robots-Tag:noindex
X-PUBLISHED-TTL:PT1H
BEGIN:VTIMEZONE
TZID:America/New_York
BEGIN:DAYLIGHT
TZOFFSETFROM:-0500
TZOFFSETTO:-0400
TZNAME:EDT
DTSTART:20240310T070000
END:DAYLIGHT
BEGIN:STANDARD
TZOFFSETFROM:-0400
TZOFFSETTO:-0500
TZNAME:EST
DTSTART:20241103T060000
END:STANDARD
BEGIN:DAYLIGHT
TZOFFSETFROM:-0500
TZOFFSETTO:-0400
TZNAME:EDT
DTSTART:20250309T070000
END:DAYLIGHT
BEGIN:STANDARD
TZOFFSETFROM:-0400
TZOFFSETTO:-0500
TZNAME:EST
DTSTART:20251102T060000
END:STANDARD
BEGIN:DAYLIGHT
TZOFFSETFROM:-0500
TZOFFSETTO:-0400
TZNAME:EDT
DTSTART:20260308T070000
END:DAYLIGHT
BEGIN:STANDARD
TZOFFSETFROM:-0400
TZOFFSETTO:-0500
TZNAME:EST
DTSTART:20261101T060000
END:STANDARD
END:VTIMEZONE
BEGIN:VEVENT
DTSTART;VALUE=DATE:20250809
DTEND;VALUE=DATE:20250810
DTSTAMP:20260424T020302
CREATED:20250208T183635Z
LAST-MODIFIED:20250619T002118Z
UID:10000119-1754697600-1754783999@pcachs.org
SUMMARY:Wings\, Wags\, and Wheels\, in Cambridge\, MD
DESCRIPTION:Join us for a special tour on the Eastern Shore of Maryland with a route created by Guest Tour Master Tom Divilio. Enjoy a tour of some of the better roads of Dorchester County\, including driving through picturesque Blackwater Wildlife Refuge and see some of Maryland’s oldest and most remote farms. We will end at the Cambridge-Dorchester Regional Airport for the 2025 edition of the Wags\, Wings & Wheels fundraising event for Baywater Animal Rescue. Optional hotel information is below. \nOnce at the airport\, you will be able to enjoy not only a range of food and craft vendors but also get to see an aircraft display featuring antique\, modern and some experimental aircraft\, and a car show.  We will be part of the car show.  Live music will be on site.  The event is still evolving as of this writing and could include a chance to take a ride in an open cockpit biplane as well as an opportunity to have your car photographed with an airplane. When we arrive at the airport\, we will join the car show display and be free to enjoy this big party. \nThis event is pet-friendly\, and there will be opportunities to adopt a new pet. Think of this as a very large outdoor lawn party. \nWe will not be charged for parking. The Wags\, Wings and Wheels event is a fundraiser for Baywater Animal Rescue\, the Eastern Shore’s leading no-kill animal welfare organization.  Baywater has been a safe place for homeless companion animals since 1947 and is totally dependent on donations as it receives no government funding. Your registration fee will go to Baywater. Additional donations are encouraged and tax deductible. \nTo donate directly\, or purchase items from their wish list for donation\, please see their website; https://www.baywateranimalrescue.org/ \n  \nWHEN and WHERE \n  \nWhen: Saturday\, August 9th\, 9:00 am  \nWhere: The Cambridge\, MD address will be sent to confirmed registrants by August 8th   \nParticipant’s Meeting: 8:30 am \nDeparture: First cars off at 9:00 am \nDriving time and distance: approximately 1 1/2 hours and 67 miles total \nDestination: Cambridge-Dorchester Regional Airport\, 5263 Bucktown Rd\, Cambridge\, MD 21613 \n  \nPARTICIPATION \n  \nBy signing up for and joining any of our driving events\, registrants acknowledge and assume all the risks in and full responsibility for their participation. PCA waiver forms must be completed and signed by all\, online or on paper. Note that planned events are subject to change\, for weather-related or other reasons. \n  \nREGISTRATION \n\nRegistration will open soon and will end on August 6th at 1:00 pm.\nTo register\, log on to your account at Motorsport.reg: msreg.com/WagsWingsWheels\n$5 registration fee per adult; maximum fee $10 per car.\nNo fee for minors (17 and younger).\nMotorsportReg charges a $2 service fee per registration (not for every person).\nPCA members and their guests must be registered and confirmed to join this event.\nDrivers must be adult (18 and older) PCA members with a valid driver’s license.\nEach participant in the tour must complete a SpeedWaiver: https://pcachesapeake.speedwaiver.com/lpfzz.\nRoute instructions\, and other documents will be sent to confirmed registrants via email by 6:00 pm on August 8th.\nAll PCA members and their family are welcome.\nTo obtain a refund\, cancellations must be made before the closing of registration.\nIf you have already registered and need help to cancel your registration\, refer to this link for detailed instructions.\n\nOPTIONAL HOTEL \n  \nFor those who would rather spend Friday (or Saturday) night closer to the start of the tour\, we have made special arrangements with Hyatt in Cambridge\, MD for several rooms at a special rate of $289 plus tax for the night. To reserve a room\, contact the Hyatt directly at (410) 901-6323\,  and ask for the PCA  rate. \n  \nQUESTIONS: Please send questions to Rich Ehrlich\, Tour & Rally Committee\, at tour@pcachs.org. \n  \nTo preview and register for upcoming Tours\, visit the Tour & Rally page on PCACHS.org: https://pcachs.org/tour-and-rally/
URL:https://pcachs.org/event/wings-wags-and-wheels-in-cambridge-md/
CATEGORIES:Tours & Rallies
END:VEVENT
BEGIN:VEVENT
DTSTART;VALUE=DATE:20250824
DTEND;VALUE=DATE:20250825
DTSTAMP:20260424T020302
CREATED:20250208T183650Z
LAST-MODIFIED:20250811T191954Z
UID:10000120-1755993600-1756079999@pcachs.org
SUMMARY:Off-Road Tour
DESCRIPTION:More to come!
URL:https://pcachs.org/event/off-road-tour/
CATEGORIES:Tours & Rallies
END:VEVENT
END:VCALENDAR