BEGIN:VCALENDAR
VERSION:2.0
PRODID:-//Porsche Club of America - Chesapeake Region - ECPv6.15.20//NONSGML v1.0//EN
CALSCALE:GREGORIAN
METHOD:PUBLISH
X-WR-CALNAME:Porsche Club of America - Chesapeake Region
X-ORIGINAL-URL:https://pcachs.org
X-WR-CALDESC:Events for Porsche Club of America - Chesapeake Region
REFRESH-INTERVAL;VALUE=DURATION:PT1H
X-Robots-Tag:noindex
X-PUBLISHED-TTL:PT1H
BEGIN:VTIMEZONE
TZID:America/New_York
BEGIN:DAYLIGHT
TZOFFSETFROM:-0500
TZOFFSETTO:-0400
TZNAME:EDT
DTSTART:20250309T070000
END:DAYLIGHT
BEGIN:STANDARD
TZOFFSETFROM:-0400
TZOFFSETTO:-0500
TZNAME:EST
DTSTART:20251102T060000
END:STANDARD
BEGIN:DAYLIGHT
TZOFFSETFROM:-0500
TZOFFSETTO:-0400
TZNAME:EDT
DTSTART:20260308T070000
END:DAYLIGHT
BEGIN:STANDARD
TZOFFSETFROM:-0400
TZOFFSETTO:-0500
TZNAME:EST
DTSTART:20261101T060000
END:STANDARD
BEGIN:DAYLIGHT
TZOFFSETFROM:-0500
TZOFFSETTO:-0400
TZNAME:EDT
DTSTART:20270314T070000
END:DAYLIGHT
BEGIN:STANDARD
TZOFFSETFROM:-0400
TZOFFSETTO:-0500
TZNAME:EST
DTSTART:20271107T060000
END:STANDARD
END:VTIMEZONE
BEGIN:VEVENT
DTSTART;VALUE=DATE:20260614
DTEND;VALUE=DATE:20260621
DTSTAMP:20260423T170805
CREATED:20251229T032052Z
LAST-MODIFIED:20251229T032150Z
UID:10000173-1781395200-1781999999@pcachs.org
SUMMARY:Porsche Parade Lake Placid
DESCRIPTION:Click HERE for details
URL:https://pcachs.org/event/porsche-parade-lake-placid/
CATEGORIES:National Event
END:VEVENT
BEGIN:VEVENT
DTSTART;VALUE=DATE:20260814
DTEND;VALUE=DATE:20260815
DTSTAMP:20260423T170805
CREATED:20251229T032450Z
LAST-MODIFIED:20251229T032450Z
UID:10000174-1786665600-1786751999@pcachs.org
SUMMARY:Werks Reunion Monterey
DESCRIPTION:Click HERE for more details\nPorsche Club of America (PCA) welcomes all Porsche clubs\, owners\, and enthusiasts to the Twelfth Annual Werks Reunion Amelia Island on August 14\, 2026\, the Friday preceding the Monterey Concours d’Elegance. We invite you to come to The Monterey Pines Golf Course to see a breathtaking array of Porsches\, from rare to current models and everything in between! \nThis year\, we will be celebrating the 50th Anniversary of the introduction of the 924 in 1976\, as well as the series of transaxle Porsches. The 924 was both innovative\, with the transaxle layout achieving balanced handling\, and crowd-pleasing\, as the entry-level model made the Porsche brand more accessible to a broader audience. \nThe Porsche 924 wasn’t even supposed to be a Porsche. Initially developed for Volkswagen under the project name EA 425\, Volkswagen scrapped the plan\, and Porsche acquired it as an entry-level replacement for the 914 and 912E. \nWhen it hit the U.S.\, the 924 shocked Porsche purists; it was the brand’s first front-engine\, water-cooled transaxle car\, and American road testers weren’t kind. However\, Porsche continued to refine the formula\, and over 152\,000 were produced. \nBy the late ’70s\, reviews softened\, praising its sharp looks\, comfy seats\, and road-hugging feel. A Turbo arrived in ’79\, but the upcoming 944 stole the spotlight\, leaving unsold 924s to linger on lots. The model bowed out in the U.S. in 1982\, only to return as the 924 S in 1987 with a Porsche-built 2.5L and a livelier 147 hp. \nToday\, finding a clean 924 isn’t easy—early cars especially. But those who know\, know: the OG 924 may be slower and noisier\, yet it’s simpler\, easier to maintain\, and a true piece of Porsche history. \nYou are not required to be a PCA member to participate in this celebration of Porsche automobiles; however\, you must register to Corral or be Judged. Display your cherished car in model-specific Porsche Corrals\, or enter the Porsche Judged Field and compete to win in more than 20 prize categories. \nThe Porsche Club of America created Werks Reunion as an event to celebrate both the Porsche marque and the camaraderie of being an enthusiast. This is not a contest of who has removed dust from the deepest crevices in their Porsche\, but rather a judged show that rewards a Porsche that has been lovingly maintained and presents itself well on the field. Our judges do not use Porsche Parade Concours score sheets; instead\, they rank the cars based on the specific attributes discussed before judging. For those who do not wish to have their cars judged\, you may display in the model-specific corrals or\, if the organizers see fit\, on the judged field itself. There are no score sheets returned or protest committees. This is a casual gathering of Porsche enthusiasts focused on having fun rather than solely on competition.
URL:https://pcachs.org/event/werks-reunion-monterey/
CATEGORIES:National Event
END:VEVENT
BEGIN:VEVENT
DTSTART;VALUE=DATE:20260919
DTEND;VALUE=DATE:20260926
DTSTAMP:20260423T170805
CREATED:20251229T032920Z
LAST-MODIFIED:20251229T032920Z
UID:10000176-1789776000-1790380799@pcachs.org
SUMMARY:Treffen at Sea Pacific Wine Country
DESCRIPTION:Treffen at Sea 2026 – 6-Day Pacific Wine Country \nJoin hundreds of PCA Members on the 4th Annual Treffen at Sea\, and the 5th event cruise\, with Princess Cruises\, from Saturday\, September 19th to Friday\, September 25th\, 2026.  We will set sail from Vancouver\, Canada\, to Los Angeles\, CA\, with stops in San Francisco and Santa Barbara. \nComing soon – details on the Porsche and partner seminars\, special on-board events & activities\, unique Porsche themed beverages\, wine tastings\, and incredible in-port experiences in partnership with local PCA Regions. \nMake sure to check the Treffen at Sea website regularly for updates. \nItinerary\nSaturday\, Sept 19 | Vancouver \nSunday\, Sept 20 | At Sea \nMonday\, Sept 21 | At Sea \nTuesday\, Sept 22 | San Francisco \nWednesday\, Sept 23 | At Sea \nThursday\, Sept 24 | Santa Barbara \nFriday\, Sept 25 | Los Angeles \n  \nWhy book now? \nBook now to take advantage of the best available cabins. Exclusive PCA Member rates start at $999 per guest and include all the benefits of Princess PLUS (WiFi\, Beverages\, Crew Appreciation\, and more). \nCall 833-679-2188 to speak to a PCA Travel Concierge agent to book your cruise today!
URL:https://pcachs.org/event/treffen-at-sea-pacific-wine-country/
CATEGORIES:National Event
END:VEVENT
BEGIN:VEVENT
DTSTART;VALUE=DATE:20261017
DTEND;VALUE=DATE:20261018
DTSTAMP:20260423T170805
CREATED:20251028T014750Z
LAST-MODIFIED:20251028T014750Z
UID:10000159-1792195200-1792281599@pcachs.org
SUMMARY:Boardwalk Reunion
DESCRIPTION:Boardwalk Reunion \n  \nmore to come
URL:https://pcachs.org/event/boardwalk-reunion-2/
CATEGORIES:National Event
END:VEVENT
END:VCALENDAR