BEGIN:VCALENDAR
VERSION:2.0
PRODID:-//Porsche Club of America - Chesapeake Region - ECPv6.15.20//NONSGML v1.0//EN
CALSCALE:GREGORIAN
METHOD:PUBLISH
X-ORIGINAL-URL:https://pcachs.org
X-WR-CALDESC:Events for Porsche Club of America - Chesapeake Region
REFRESH-INTERVAL;VALUE=DURATION:PT1H
X-Robots-Tag:noindex
X-PUBLISHED-TTL:PT1H
BEGIN:VTIMEZONE
TZID:America/New_York
BEGIN:DAYLIGHT
TZOFFSETFROM:-0500
TZOFFSETTO:-0400
TZNAME:EDT
DTSTART:20250309T070000
END:DAYLIGHT
BEGIN:STANDARD
TZOFFSETFROM:-0400
TZOFFSETTO:-0500
TZNAME:EST
DTSTART:20251102T060000
END:STANDARD
BEGIN:DAYLIGHT
TZOFFSETFROM:-0500
TZOFFSETTO:-0400
TZNAME:EDT
DTSTART:20260308T070000
END:DAYLIGHT
BEGIN:STANDARD
TZOFFSETFROM:-0400
TZOFFSETTO:-0500
TZNAME:EST
DTSTART:20261101T060000
END:STANDARD
BEGIN:DAYLIGHT
TZOFFSETFROM:-0500
TZOFFSETTO:-0400
TZNAME:EDT
DTSTART:20270314T070000
END:DAYLIGHT
BEGIN:STANDARD
TZOFFSETFROM:-0400
TZOFFSETTO:-0500
TZNAME:EST
DTSTART:20271107T060000
END:STANDARD
END:VTIMEZONE
BEGIN:VEVENT
DTSTART;TZID=America/New_York:20260421T183000
DTEND;TZID=America/New_York:20260421T203000
DTSTAMP:20260423T153022
CREATED:20260305T212848Z
LAST-MODIFIED:20260305T212848Z
UID:10000212-1776796200-1776803400@pcachs.org
SUMMARY:Social Dinner at Bud’s at Silver Run
DESCRIPTION:REGISTER HERE\nLet’s meet at Bud’s at Silver Run! Please mark your calendars for Tuesday night\, April 21st\, at 6:30pm (5:30 cocktails) at Bud’s at Silver Run located in Westminster\, Carroll County. Bud’s at Silver Run expresses a friendly atmosphere that is great for casual dining and catching up with friends. The exceptional and warm service adds to the relaxing experience. Check out their delicious menu here. \nAll participants must register here by April 18th. \nSeating is limited to 40 people (you will be placed on the waitlist if the limit is met but may be contacted should anyone cancel and there is availability). There is no registration fee for this event. \nWHEN and WHERE \n\nWhen: April 21\, 2026\, Tuesday\nMeeting time: 6:30pm (5:30 cocktails)\nMeeting point: Bud’s at Silver Run\, 4115 Littlestown Pike Westminster\, MD 21158 – 410.346.6816\nEnd of social: 8:30pm\nCost: Members are responsible for their own dinner. Registration is free and required for planning purposes.\n\nREGISTRATION \n\nRegistration will close at midnight on Saturday\, April 18\nRegister at https://www.motorsportreg.com\nIf you have already registered and need help to cancel your registration\, refer to this link for detailed instructions.\n\nQUESTIONS \nSend social related questions to the Social Committee at social@pcachs.org.
URL:https://pcachs.org/event/social-dinner-at-buds-at-silver-run/
CATEGORIES:Monthly Socials
END:VEVENT
BEGIN:VEVENT
DTSTART;TZID=America/New_York:20260512T183000
DTEND;TZID=America/New_York:20260512T203000
DTSTAMP:20260423T153022
CREATED:20260304T161150Z
LAST-MODIFIED:20260304T161150Z
UID:10000210-1778610600-1778617800@pcachs.org
SUMMARY:Social Dinner at Boatyard Bar & Grill
DESCRIPTION:REGISTER HERE\nLet’s meet at Boatyard Bar & Grill! Please mark your calendars for Tuesday night\, May 12th\, at 6:30pm (5:30 cocktails) at Boatyard Bar & Grill located in Annapolis\, Anne Arundel County. The Boatyard is where local sailors\, fishermen and lovers of the Chesapeake enjoy pint drinks\, great crab cakes and the freshest local seafood. Specialties include smoked fish of the day (on premise)\, cream of crab and Maryland crab soups and an extensive list of crab and seafood specialties. The Boatyard has the most extensive raw bar in the area including a variety of oysters\, clams\, shrimp and mussels.  The Boatyard receives awards for being most family friendly and having the best crab cakes and burger on the Bay. Check out their menu here. \nAll participants must register here by Tuesday\, May 5th. \nSeating is limited to 50 people (you will be placed on the waitlist if the limit is met but may be contacted should anyone cancel and there is availability). There is no registration fee for this event. \nWHEN and WHERE \n\nWhen: May 12\, 2026\, Tuesday\nMeeting time: 6:30pm (5:30 cocktails)\nMeeting point: Boatyard Bar & Grill\, 400 Fourth Street\, Annapolis\nEnd of social: 8:30pm\nCost: Members are responsible for their own dinner. Registration is free and required for planning purposes.\n\nREGISTRATION \n\nRegistration will close at midnight on Tuesday\, May 5. Register at https://www.motorsportreg.com\nIf you have already registered and need help to cancel your registration\, refer to this link for detailed instructions.\n\nQUESTIONS \nSend social related questions to the Social Committee at social@pcachs.org. \n 
URL:https://pcachs.org/event/social-dinner-at-boatyard-bar-grill/
CATEGORIES:Monthly Socials
END:VEVENT
BEGIN:VEVENT
DTSTART;TZID=America/New_York:20260829T150000
DTEND;TZID=America/New_York:20260829T190000
DTSTAMP:20260423T153022
CREATED:20260304T191316Z
LAST-MODIFIED:20260304T191613Z
UID:10000211-1788015600-1788030000@pcachs.org
SUMMARY:Crab Feast
DESCRIPTION:For the 20th consecutive year\, the Chesapeake Region Crab Feast\, sponsored by Porsche Silver Spring\, will be held at Kemptown Park in Monrovia\, MD on Saturday\, August 29th – rain or shine!   Bring your appetite and your Porsche for a wonderful\, relaxing outing with friends and family. \nThere will be tons of crab\, shrimp\, burgers\, dogs and drinks that the Region will provide – not to mention tables of side dishes and desserts that you will provide.  Lighthouse Seafood of New Market will once again be steaming our crabs and jumbo shrimp.  We’ll have two pavilions at Kemptown Park\, with reserved parking\, and we have been assured the lovely breezes that have graced the event in the past will be returning for the 20th repeat of this event! A large playground will keep your young Porsche enthusiasts occupied and a real\, honest-to-goodness bathroom with running water will appeal to the most persnickety of crab feast clean freaks. \nOne of the fun traditions of the Crab Feast is our non-competitive car show where cleanliness and condition have never mattered for cars to receive the attention of the judges.  It’s all tongue and cheek- the awards are always fun and unpredictable\, and will be based on your Porsche’s unique curb appeal. \nThis year’s event is once again scheduled on its traditional date the weekend before Labor Day. \nWHEN and WHERE \n\nWhen: Saturday\, August 29\nMeeting time: 3:00pm\nEnd of social: 7:00pm\nMeeting Point: Kemptown Park\, 3456 Kemptown Church Rd\, Monrovia\, MD 21170\n\nParking: Large lot next to the pavilions reserved for CHS only; Porsches have priority parking\n\n\n\nREGISTRATION \n\nRegistration is not open yet\nSeating is limited to 125 people (you will be placed on the waitlist if the limit is met but may be contacted should anyone cancel and there is availability).\nCost:\n\n$45 per adult (limit 4 per registration)\, $20 children aged 13-17 years old\, free children 12 years old and under\nThis includes: AYCE Crabs and Jumbo shrimp\, burgers\, dogs\, soft drinks\, beer\, seltzers\, bottled water\, and everything else for an awesome Crabfeast!  Bring your “Crabby”  name badges from previous years\, or we will make you one.\nWhat you bring: Your Porsche! And a side dish\, salad\, or dessert option available on registration\, but is first come first serve; if there is a disproportionate amount of one dish\, later registrants will be asked to bring a different dish. Please remember to bring serving utensils.\n\n\nThe entry list and count will only show primary registrant’s name for each additional attendee which reflects the total registrant count. Don’t wait too long to register!\nQuestions? Contact the registrar\, Marsha Buss\, by clicking the “Contact” button.\nIf you have already registered and need help to cancel your registration\, refer to this link for detailed instructions.\n\nFor cancelations after the registration close date\, refunds will be given only if your registration can be filled by someone on the wait list.\n\n\n\nTo preview and register for upcoming social events\, visit the Monthly Socials page on PCACHS.org: https://pcachs.org/monthly-social/
URL:https://pcachs.org/event/crab-feast/
CATEGORIES:Monthly Socials
END:VEVENT
END:VCALENDAR