BEGIN:VCALENDAR
VERSION:2.0
PRODID:-//Porsche Club of America - Chesapeake Region - ECPv6.15.20//NONSGML v1.0//EN
CALSCALE:GREGORIAN
METHOD:PUBLISH
X-ORIGINAL-URL:https://pcachs.org
X-WR-CALDESC:Events for Porsche Club of America - Chesapeake Region
REFRESH-INTERVAL;VALUE=DURATION:PT1H
X-Robots-Tag:noindex
X-PUBLISHED-TTL:PT1H
BEGIN:VTIMEZONE
TZID:America/New_York
BEGIN:DAYLIGHT
TZOFFSETFROM:-0500
TZOFFSETTO:-0400
TZNAME:EDT
DTSTART:20240310T070000
END:DAYLIGHT
BEGIN:STANDARD
TZOFFSETFROM:-0400
TZOFFSETTO:-0500
TZNAME:EST
DTSTART:20241103T060000
END:STANDARD
BEGIN:DAYLIGHT
TZOFFSETFROM:-0500
TZOFFSETTO:-0400
TZNAME:EDT
DTSTART:20250309T070000
END:DAYLIGHT
BEGIN:STANDARD
TZOFFSETFROM:-0400
TZOFFSETTO:-0500
TZNAME:EST
DTSTART:20251102T060000
END:STANDARD
BEGIN:DAYLIGHT
TZOFFSETFROM:-0500
TZOFFSETTO:-0400
TZNAME:EDT
DTSTART:20260308T070000
END:DAYLIGHT
BEGIN:STANDARD
TZOFFSETFROM:-0400
TZOFFSETTO:-0500
TZNAME:EST
DTSTART:20261101T060000
END:STANDARD
BEGIN:DAYLIGHT
TZOFFSETFROM:-0500
TZOFFSETTO:-0400
TZNAME:EDT
DTSTART:20270314T070000
END:DAYLIGHT
BEGIN:STANDARD
TZOFFSETFROM:-0400
TZOFFSETTO:-0500
TZNAME:EST
DTSTART:20271107T060000
END:STANDARD
END:VTIMEZONE
BEGIN:VEVENT
DTSTART;TZID=America/New_York:20260421T183000
DTEND;TZID=America/New_York:20260421T203000
DTSTAMP:20260423T122224
CREATED:20260305T212848Z
LAST-MODIFIED:20260305T212848Z
UID:10000212-1776796200-1776803400@pcachs.org
SUMMARY:Social Dinner at Bud’s at Silver Run
DESCRIPTION:REGISTER HERE\nLet’s meet at Bud’s at Silver Run! Please mark your calendars for Tuesday night\, April 21st\, at 6:30pm (5:30 cocktails) at Bud’s at Silver Run located in Westminster\, Carroll County. Bud’s at Silver Run expresses a friendly atmosphere that is great for casual dining and catching up with friends. The exceptional and warm service adds to the relaxing experience. Check out their delicious menu here. \nAll participants must register here by April 18th. \nSeating is limited to 40 people (you will be placed on the waitlist if the limit is met but may be contacted should anyone cancel and there is availability). There is no registration fee for this event. \nWHEN and WHERE \n\nWhen: April 21\, 2026\, Tuesday\nMeeting time: 6:30pm (5:30 cocktails)\nMeeting point: Bud’s at Silver Run\, 4115 Littlestown Pike Westminster\, MD 21158 – 410.346.6816\nEnd of social: 8:30pm\nCost: Members are responsible for their own dinner. Registration is free and required for planning purposes.\n\nREGISTRATION \n\nRegistration will close at midnight on Saturday\, April 18\nRegister at https://www.motorsportreg.com\nIf you have already registered and need help to cancel your registration\, refer to this link for detailed instructions.\n\nQUESTIONS \nSend social related questions to the Social Committee at social@pcachs.org.
URL:https://pcachs.org/event/social-dinner-at-buds-at-silver-run/
CATEGORIES:Monthly Socials
END:VEVENT
BEGIN:VEVENT
DTSTART;TZID=America/New_York:20260418T080000
DTEND;TZID=America/New_York:20260418T093000
DTSTAMP:20260423T122224
CREATED:20260213T192628Z
LAST-MODIFIED:20260213T192628Z
UID:10000204-1776499200-1776504600@pcachs.org
SUMMARY:SOCIAL BREAKFAST AT  EGGCELLENCE BRUNCHERY
DESCRIPTION:REGISTER HERE\nCome out and join your fellow PCAers for a morning of fun in Annapolis.  We’ll meet Saturday morning\, April 18th\, at 8am in Annapolis. Eggcellence Brunchery features comfort food for breakfast including waffles\, pancakes\, build your own omelettes\, benedicts and more. Check out their menu here. \nAll participants must register for the breakfast on www.MotorsportReg.com by April 17th. \nSeating is limited to 35 people. There is no registration fee for this event. \nWHEN and WHERE \n\nWhen: April 18\, 2026\, Saturday\nMeeting time: 8:00am\nMeeting point: Eggcellence Brunchery restaurant\, Gateway Shopping Plaza\, 2625 Housley Road\, Annapolis\, 410-573-9503\nEnd of social: 9:30am\nCost: Members are responsible for their own breakfast. Registration is free and required for planning purposes.\n\nREGISTRATION \n\nThe eBlast announcing this event will have a weblink for registration. Click it.\nLog onto your Motorsportreg account at www.Motorsportreg.com\nRegistration will close at midnight on April 17th.\nThere is no fee for this event.\n\nQUESTIONS \nSend social related questions to the Social Committee at social@pcachs.org.
URL:https://pcachs.org/event/social-breakfast-at-eggcellence-brunchery-4/
LOCATION:Eggcellence Brunchery\, Gateway Shopping Plaza\, 2625 Housley Road\, Annapolis\, MD\, United States
CATEGORIES:Monthly Socials
END:VEVENT
BEGIN:VEVENT
DTSTART;TZID=America/New_York:20260324T173000
DTEND;TZID=America/New_York:20260324T203000
DTSTAMP:20260423T122224
CREATED:20260220T231506Z
LAST-MODIFIED:20260220T231506Z
UID:10000206-1774373400-1774384200@pcachs.org
SUMMARY:SOCIAL DINNER AT KELSEY’S RESTAURANT
DESCRIPTION:TUESDAY\, March 24\, 2026 \nREGISTER HERE\nLet’s have another After St. Patrick’s Day party! Please mark your calendars for Tuesday night\, March 25th\, at 6:30pm (5:30 cocktails) at Kelsey’s Restaurant located in Ellicott City\, Howard County. The restaurant features Irish classics and American food. Check out their menu here. \nAll participants must register for the dinner on www.MotorsportReg.com by March 20th. \nSeating is limited to 36 people (you will be placed on the waitlist if the limit is met but may be contacted should anyone cancel and there is availability). There is no registration fee for this event. \nWHEN and WHERE \n\nWhen: March 24\, 2026\, Tuesday\nMeeting time: 6:30pm (5:30 cocktails)\nMeeting point: Kelsey’s Restaurant\, 8480 Baltimore National Pike (Rt 40 West)\, Ellicott City 410-418-9076\nEnd of social: 8:30pm\nCost: Members are responsible for their own dinner. Registration is free and required for planning purposes.\n\nREGISTRATION \n\nThe eBlast announcing this event will have a weblink for registration. Click it.\nLog onto your Motorsportreg account or create one at MotorsportReg.com\nRegistration will close at midnight on Friday\, March 20th.\nThere is no fee for this event.\n\n  \nQUESTIONS \nSend social event related questions to the Social Committee at social@pcachs.org.
URL:https://pcachs.org/event/social-dinner-at-kelseys-restaurant/
LOCATION:Kelsey’s\, 8480 Baltimore National Pike\, Ellicott City\, MD\, 21043\, United States
CATEGORIES:Monthly Socials
END:VEVENT
BEGIN:VEVENT
DTSTART;TZID=America/New_York:20260307T080000
DTEND;TZID=America/New_York:20260307T093000
DTSTAMP:20260423T122224
CREATED:20260213T192452Z
LAST-MODIFIED:20260213T192706Z
UID:10000203-1772870400-1772875800@pcachs.org
SUMMARY:SOCIAL BREAKFAST AT  EGGCELLENCE BRUNCHERY
DESCRIPTION:REGISTER HERE\nCome out and join your fellow PCAers for a morning of fun in Annapolis.  We’ll meet Saturday morning\, March 7th\, at 8am in Annapolis. Eggcellence Brunchery features comfort food for breakfast including waffles\, pancakes\, build your own omelettes\, benedicts and more. Check out their menu here. \nAll participants must register for the breakfast on  www.MotorsportReg.com by March 6th. \nSeating is limited to 35 people. There is no registration fee for this event. \nWHEN and WHERE \n\nWhen: March 7\, 2026\, Saturday\nMeeting time: 8:00am\nMeeting point: Eggcellence Brunchery restaurant\, Gateway Shopping Plaza\, 2625 Housley Road\, Annapolis   410-573-9503\nEnd of social: 9:30am\nCost: Members are responsible for their own breakfast. Registration is free and required for planning purposes.\n\nREGISTRATION \n\nLog onto your Motorsportreg account at www.MotorsportReg.com\nRegistration will close at midnight on March 6th.\nThere is no fee for this event.\n\nQUESTIONS \nSend social related questions to the Social Committee at social@pcachs.org.
URL:https://pcachs.org/event/social-breakfast-at-eggcellence-brunchery-3/
LOCATION:Eggcellence Brunchery\, Gateway Shopping Plaza\, 2625 Housley Road\, Annapolis\, MD\, United States
CATEGORIES:Monthly Socials
END:VEVENT
BEGIN:VEVENT
DTSTART;TZID=America/New_York:20260221T080000
DTEND;TZID=America/New_York:20260221T093000
DTSTAMP:20260423T122224
CREATED:20260213T192239Z
LAST-MODIFIED:20260213T192239Z
UID:10000202-1771660800-1771666200@pcachs.org
SUMMARY:SOCIAL BREAKFAST AT  EGGCELLENCE BRUNCHERY
DESCRIPTION:REGISTER HERE\nCome out and join your fellow PCAers for a morning of fun in Annapolis.  We’ll meet Saturday morning\, February 21st\, at 8am in Annapolis. Eggcellence Brunchery features comfort food for breakfast including waffles\, pancakes\, build your own omelettes\, benedicts and more. Check out their menu here. \nAll participants must register for the breakfast on www.MotorsportReg.com by February 20th. \nSeating is limited to 35 people. There is no registration fee for this event. \nWHEN and WHERE \n\nWhen: February 21\, 2026\, Saturday\nMeeting time: 8:00am\nMeeting point: Eggcellence Brunchery restaurant\, Gateway Shopping Plaza\, 2625 Housley Road\, Annapolis\, 410-573-9503\nEnd of social: 9:30am\nCost: Members are responsible for their own breakfast. Registration is free and required for planning purposes.\n\nREGISTRATION \n\nLog onto your Motorsportreg account at www.MotorsportReg.com\nRegistration will close at midnight on February 20th.\nThere is no fee for this event.\n\nQUESTIONS \nSend social related questions to the Social Committee at social@pcachs.org.
URL:https://pcachs.org/event/social-breakfast-at-eggcellence-brunchery-2/
LOCATION:Eggcellence Brunchery\, Gateway Shopping Plaza\, 2625 Housley Road\, Annapolis\, MD\, United States
CATEGORIES:Monthly Socials
END:VEVENT
BEGIN:VEVENT
DTSTART;TZID=America/New_York:20251216T183000
DTEND;TZID=America/New_York:20251216T203000
DTSTAMP:20260423T122224
CREATED:20250508T022545Z
LAST-MODIFIED:20251026T232859Z
UID:10000144-1765909800-1765917000@pcachs.org
SUMMARY:Social Dinner at Manor Tavern
DESCRIPTION:SOCIAL DINNER AT MANOR TAVERN \nTUESDAY\, December 16\, 2025 \nREGISTER HERE\nPlease mark your calendar for Tuesday night\, December 16th\, at 6:30pm (5:30 cocktails) at Manor Tavern located in picturesque Monkton\, Baltimore County. The restaurant features farm to table American food in a country club atmosphere. We will have a limited menu selected for our club. \nAll participants must register for the dinner by December 11th. \nSeating is limited to 40 people (you will be placed on the waitlist if the limit is met but may be contacted should anyone cancel and there is availability). There is no registration fee for this event. \nWHEN and WHERE \nWhen: December 16\, 2025\, Tuesday \nMeeting time: 6:30pm (5:30pm cocktails) \nMeeting point: Manor Tavern\, 15819 Old York Road\, Monkton 410-771-8155 \nEnd of social: 8:30pm \nCost: Members are responsible for their own dinner. Registration is free and required for planning purposes. \n  \nREGISTRATION \n\nThe eBlast announcing this event will have a weblink for registration. Click it.\nLog onto your MotorsportReg account or create one at MotorsportReg.com\nRegistration will close at midnight on Thursday\, December 11th.\nThere is no fee for this event.\n\n  \nQUESTIONS \nSend social event related questions to the Social Committee at social@pcachs.org.
URL:https://pcachs.org/event/social-dinner-dec/
CATEGORIES:Monthly Socials
ATTACH;FMTTYPE=image/jpeg:https://pcachs.org/wp-content/uploads/2022/01/Social.jpg
END:VEVENT
BEGIN:VEVENT
DTSTART;TZID=America/New_York:20251118T183000
DTEND;TZID=America/New_York:20251118T203000
DTSTAMP:20260423T122224
CREATED:20251024T113056Z
LAST-MODIFIED:20251024T113509Z
UID:10000157-1763490600-1763497800@pcachs.org
SUMMARY:Social Dinner at the White Oak Tavern
DESCRIPTION:SOCIAL DINNER AT WHITE OAK TAVERN \nTUESDAY\, November 18\, 2025 \nREGISTER HERE\nPlease mark your calendars for Tuesday night\, November 18th\, at 6:30pm (5:30pm for cocktails) at the White Oak Tavern located in the Enchanted Forest Shopping Center in Ellicott City\, Howard County. The restaurant features a New American menu and locally sourced pub grub. \nAll participants must register for the dinner on www.MotorsportReg.com by November 14th. \nSeating is limited to 36 people (you will be placed on the waitlist if the limit is met but may be contacted should anyone cancel and there is availability). There is no registration fee for this event. \nWHEN and WHERE \nWhen: November 18\, 2025\, Tuesday \nMeeting time: 6:30pm (5:30 for cocktails) \nMeeting point: 10030 Baltimore National Pike\, Ellicott City (410) 680-8974 \nEnd of social: 8:30pm \nCost: Members are responsible for their own dinner. Registration is free and required for planning purposes. \nREGISTRATION \n\nThe eBlast announcing this event will have a weblink for registration. Click it.\nLog onto your Motorsportreg account or create one at MotorsportReg.com\nRegistration will close at midnight on Friday\, November 14th.\nThere is no fee for this event.\n\nQUESTIONS \nSend social event related questions to the Social Committee at social@pcachs.org. \n  \n 
URL:https://pcachs.org/event/social-dinner-at-the-white-oak-tavern/
CATEGORIES:Monthly Socials
END:VEVENT
BEGIN:VEVENT
DTSTART;TZID=America/New_York:20251021T173000
DTEND;TZID=America/New_York:20251021T210000
DTSTAMP:20260423T122224
CREATED:20250508T022453Z
LAST-MODIFIED:20250926T190906Z
UID:10000142-1761067800-1761080400@pcachs.org
SUMMARY:Social Dinner at The Social
DESCRIPTION:Please join us for a fun night with your fellow PCA members. The Social has created a casual neighborhood tavern with an elevated food experience. Please mark your calendars for Tuesday night\, October 21st at 5:30 (cocktails\, dinner at 6:30) at The Social located in Severna Park. You can view the menu here. \nAll participants must register for the dinner by October 19th. \nREGISTER HERE\nSeating is limited to 40 people (you will be placed on the waitlist if the limit is met but may be contacted should anyone cancel and there is availability). There is no registration fee for this event. \nWHEN and WHERE \n\nWhen: October 21\, 2025\, Tuesday\nMeeting time: 5:30pm (cocktails)\, 6:30pm (dinner)\nEnd of social: 9:00pm\nMeeting Point: The Social\, 139 Ritchie Highway A\, Severna Park\, 410-544-2457\nCost: Members are responsible for their own dinner. Registration is free and required for planning purposes.\n\nIf you have already registered and need help to cancel your registration\, refer to this link for detailed instructions.
URL:https://pcachs.org/event/social-dinner-2/
CATEGORIES:Monthly Socials
END:VEVENT
BEGIN:VEVENT
DTSTART;TZID=America/New_York:20250916T173000
DTEND;TZID=America/New_York:20250916T203000
DTSTAMP:20260423T122224
CREATED:20250811T192324Z
LAST-MODIFIED:20250811T192324Z
UID:10000149-1758043800-1758054600@pcachs.org
SUMMARY:Social Dinner at LoonAsea Restaurant
DESCRIPTION:Mark your calendars for Tuesday September 16\, 2025 at 6:30pm (cocktails at 5:30) at LoonASea in Essex\, MD.  Located on the banks of Hopkins Creek\, LoonAsea is Maryland’s newest casual waterfront restaurant\, and the menu features staple favorites while also offering a selection of “totally different\, seafood-based and local items”. \nAll participants will need register for the dinner on www.motorsportreg.com. Seating is limited to 60 people (you will be placed on the waitlist if the limit is met but may be contacted should anyone cancel and there is availability).  There is no registration fee for this event. \nCheck out their menu here. \nAll participants must register here by September 13. \nWHEN and WHERE \n\nWhen: September 16\, 2025\, Tuesday\nMeeting time: 6:30pm (cocktails at 5:30)\nMeeting point: LoonAsea Restaurant\, 207 Nanticoke Rd\, Essex 443-505-8895\nEnd of social: 8:30pm\nCost: Members are responsible for their own dinner. Registration is free and required for planning purposes.\n\nREGISTRATION \n\nRegistration will close at midnight on Saturday\, September 13.\nIf you have already registered and need help to cancel your registration\, refer to this link for detailed instructions.\n\nQUESTIONS \nSend social related questions to the Social Committee at social@pcachs.org.
URL:https://pcachs.org/event/social-dinner-at-loonasea-restaurant/
CATEGORIES:Monthly Socials
END:VEVENT
BEGIN:VEVENT
DTSTART;TZID=America/New_York:20250823T150000
DTEND;TZID=America/New_York:20250823T190000
DTSTAMP:20260423T122224
CREATED:20241215T134538Z
LAST-MODIFIED:20250702T122537Z
UID:10000077-1755961200-1755975600@pcachs.org
SUMMARY:Crab Feast
DESCRIPTION:  \nFor the 19th consecutive year\, the Chesapeake Region Crab Feast\, sponsored by Porsche Silver Spring\, will be held at Kemptown Park in Monrovia\, MD on Saturday\, August 23rd- rain or shine!   Bring your appetite and your Porsche for a wonderful\, relaxing outing with friends and family. \nThere will be tons of crab\, shrimp\, burgers\, dogs and drinks that the Region will provide – not to mention tables of side dishes and desserts that you will provide.  Lighthouse Seafood of New Market will once again be steaming our crabs and jumbo shrimp.  We’ll have two pavilions at Kemptown Park\, with reserved parking\, and we have been assured the lovely breezes that have graced the event in the past will be returning for the 18th repeat of this event! A large playground will keep your young Porsche enthusiasts occupied and a real\, honest-to-goodness bathroom with running water will appeal to the most persnickety of crab feast clean freaks. \nOne of the fun traditions of the Crab Feast is our non-competitive car show where cleanliness and condition have never mattered for cars to receive the attention of the judges.  It’s all tongue and cheek- the awards are always fun and unpredictable\, and will be based on your Porsche’s unique curb appeal. \nThis year’s event is once again scheduled on its traditional date the weekend before Labor Day. \nWHEN and WHERE \n\nWhen: Saturday\, August 23rd\nMeeting time: 3:00pm\nEnd of social: 7:00pm\nMeeting Point: Kemptown Park\, 3456 Kemptown Church Rd\, Monrovia\, MD 21170\n\nParking: Large lot next to the pavilions reserved for CHS only; Porsches have priority parking\n\n\n\nREGISTRATION \n\nRegistration is open now and closes August 20th.\nSeating is limited to 125 people (you will be placed on the waitlist if the limit is met but may be contacted should anyone cancel and there is availability).\nCost:\n\n$45 per adult (limit 4 per registration)\, $20 children aged 13-17 years old\, free children 12 years old and under\nThis includes: AYCE Crabs and Jumbo shrimp\, burgers\, dogs\, soft drinks\, beer\, seltzers\, bottled water\, and everything else for an awesome Crabfeast!  Bring your “Crabby”  name badges from previous years\, or we will make you one.\nWhat you bring: Your Porsche! And a side dish\, salad\, or dessert option available on registration\, but is first come first serve; if there is a disproportionate amount of one dish\, later registrants will be asked to bring a different dish. Please remember to bring serving utensils.\n\n\nThe entry list and count will only show primary registrant’s name for each additional attendee which reflects the total registrant count. Don’t wait too long to register!\nQuestions? Contact the registrar\, Marsha Buss\, by clicking the “Contact” button.\nIf you have already registered and need help to cancel your registration\, refer to this link for detailed instructions.\n\nFor cancelations after the August 20th registration close date\, refunds will be given only if your registration can be filled by someone on the wait list.\n\n\n\n\nTo preview and register for upcoming social events\, visit the Monthly Socials page on PCACHS.org: https://pcachs.org/monthly-social/
URL:https://pcachs.org/event/crab-feast-2/
CATEGORIES:Monthly Socials
END:VEVENT
BEGIN:VEVENT
DTSTART;VALUE=DATE:20250812
DTEND;VALUE=DATE:20250813
DTSTAMP:20260423T122224
CREATED:20250508T022427Z
LAST-MODIFIED:20250706T192356Z
UID:10000141-1754956800-1755043199@pcachs.org
SUMMARY:Social Dinner @ The Farmhouse
DESCRIPTION:The Farmhouse – where rustic dining meets farm freshness.  Please mark your calendars for Tuesday night\, August 12th at 6:30pm. You can view the dinner menu here. \nAll participants must register for the dinner here by August 8th. \nSeating is limited to 50 people (you will be placed on the waitlist if the limit is met but may be contacted should anyone cancel and there is availability). There is no registration fee for this event. \n  \nWHEN and WHERE \n\nWhen: August 12\, 2025\, Tuesday\nMeeting time: 6:30pm (5:30pm for cocktails in the bar)\nEnd of social: 9:00pm\nMeeting Point:  The Farmhouse\, 2383 Brandermill Blvd\, Gambrills 21054 (Waugh Chapel Towne Centre) 410-451-7544\nCost: Members are responsible for their own dinner and beverages. “Couples” checks will be offered. Registration is free and required for planning purposes.\nIf you have already registered and need help to cancel your registration\, refer to this link for detailed instructions.\n\n  \nMENU \nYou will be able to order off the menu a la carte. \n  \nQUESTIONS \nSend social event related questions to the Social Committee at social@pcachs.org.
URL:https://pcachs.org/event/social-dinner/
CATEGORIES:Monthly Socials
END:VEVENT
END:VCALENDAR