BEGIN:VCALENDAR
VERSION:2.0
PRODID:-//Porsche Club of America - Chesapeake Region - ECPv6.15.20//NONSGML v1.0//EN
CALSCALE:GREGORIAN
METHOD:PUBLISH
X-ORIGINAL-URL:https://pcachs.org
X-WR-CALDESC:Events for Porsche Club of America - Chesapeake Region
REFRESH-INTERVAL;VALUE=DURATION:PT1H
X-Robots-Tag:noindex
X-PUBLISHED-TTL:PT1H
BEGIN:VTIMEZONE
TZID:America/New_York
BEGIN:DAYLIGHT
TZOFFSETFROM:-0500
TZOFFSETTO:-0400
TZNAME:EDT
DTSTART:20250309T070000
END:DAYLIGHT
BEGIN:STANDARD
TZOFFSETFROM:-0400
TZOFFSETTO:-0500
TZNAME:EST
DTSTART:20251102T060000
END:STANDARD
BEGIN:DAYLIGHT
TZOFFSETFROM:-0500
TZOFFSETTO:-0400
TZNAME:EDT
DTSTART:20260308T070000
END:DAYLIGHT
BEGIN:STANDARD
TZOFFSETFROM:-0400
TZOFFSETTO:-0500
TZNAME:EST
DTSTART:20261101T060000
END:STANDARD
BEGIN:DAYLIGHT
TZOFFSETFROM:-0500
TZOFFSETTO:-0400
TZNAME:EDT
DTSTART:20270314T070000
END:DAYLIGHT
BEGIN:STANDARD
TZOFFSETFROM:-0400
TZOFFSETTO:-0500
TZNAME:EST
DTSTART:20271107T060000
END:STANDARD
END:VTIMEZONE
BEGIN:VEVENT
DTSTART;TZID=America/New_York:20260421T183000
DTEND;TZID=America/New_York:20260421T203000
DTSTAMP:20260423T152849
CREATED:20260305T212848Z
LAST-MODIFIED:20260305T212848Z
UID:10000212-1776796200-1776803400@pcachs.org
SUMMARY:Social Dinner at Bud’s at Silver Run
DESCRIPTION:REGISTER HERE\nLet’s meet at Bud’s at Silver Run! Please mark your calendars for Tuesday night\, April 21st\, at 6:30pm (5:30 cocktails) at Bud’s at Silver Run located in Westminster\, Carroll County. Bud’s at Silver Run expresses a friendly atmosphere that is great for casual dining and catching up with friends. The exceptional and warm service adds to the relaxing experience. Check out their delicious menu here. \nAll participants must register here by April 18th. \nSeating is limited to 40 people (you will be placed on the waitlist if the limit is met but may be contacted should anyone cancel and there is availability). There is no registration fee for this event. \nWHEN and WHERE \n\nWhen: April 21\, 2026\, Tuesday\nMeeting time: 6:30pm (5:30 cocktails)\nMeeting point: Bud’s at Silver Run\, 4115 Littlestown Pike Westminster\, MD 21158 – 410.346.6816\nEnd of social: 8:30pm\nCost: Members are responsible for their own dinner. Registration is free and required for planning purposes.\n\nREGISTRATION \n\nRegistration will close at midnight on Saturday\, April 18\nRegister at https://www.motorsportreg.com\nIf you have already registered and need help to cancel your registration\, refer to this link for detailed instructions.\n\nQUESTIONS \nSend social related questions to the Social Committee at social@pcachs.org.
URL:https://pcachs.org/event/social-dinner-at-buds-at-silver-run/
CATEGORIES:Monthly Socials
END:VEVENT
END:VCALENDAR