BEGIN:VCALENDAR
VERSION:2.0
PRODID:-//Porsche Club of America - Chesapeake Region - ECPv6.15.20//NONSGML v1.0//EN
CALSCALE:GREGORIAN
METHOD:PUBLISH
X-ORIGINAL-URL:https://pcachs.org
X-WR-CALDESC:Events for Porsche Club of America - Chesapeake Region
REFRESH-INTERVAL;VALUE=DURATION:PT1H
X-Robots-Tag:noindex
X-PUBLISHED-TTL:PT1H
BEGIN:VTIMEZONE
TZID:America/New_York
BEGIN:DAYLIGHT
TZOFFSETFROM:-0500
TZOFFSETTO:-0400
TZNAME:EDT
DTSTART:20250309T070000
END:DAYLIGHT
BEGIN:STANDARD
TZOFFSETFROM:-0400
TZOFFSETTO:-0500
TZNAME:EST
DTSTART:20251102T060000
END:STANDARD
BEGIN:DAYLIGHT
TZOFFSETFROM:-0500
TZOFFSETTO:-0400
TZNAME:EDT
DTSTART:20260308T070000
END:DAYLIGHT
BEGIN:STANDARD
TZOFFSETFROM:-0400
TZOFFSETTO:-0500
TZNAME:EST
DTSTART:20261101T060000
END:STANDARD
BEGIN:DAYLIGHT
TZOFFSETFROM:-0500
TZOFFSETTO:-0400
TZNAME:EDT
DTSTART:20270314T070000
END:DAYLIGHT
BEGIN:STANDARD
TZOFFSETFROM:-0400
TZOFFSETTO:-0500
TZNAME:EST
DTSTART:20271107T060000
END:STANDARD
END:VTIMEZONE
BEGIN:VEVENT
DTSTART;VALUE=DATE:20260919
DTEND;VALUE=DATE:20260926
DTSTAMP:20260423T183514
CREATED:20251229T032920Z
LAST-MODIFIED:20251229T032920Z
UID:10000176-1789776000-1790380799@pcachs.org
SUMMARY:Treffen at Sea Pacific Wine Country
DESCRIPTION:Treffen at Sea 2026 – 6-Day Pacific Wine Country \nJoin hundreds of PCA Members on the 4th Annual Treffen at Sea\, and the 5th event cruise\, with Princess Cruises\, from Saturday\, September 19th to Friday\, September 25th\, 2026.  We will set sail from Vancouver\, Canada\, to Los Angeles\, CA\, with stops in San Francisco and Santa Barbara. \nComing soon – details on the Porsche and partner seminars\, special on-board events & activities\, unique Porsche themed beverages\, wine tastings\, and incredible in-port experiences in partnership with local PCA Regions. \nMake sure to check the Treffen at Sea website regularly for updates. \nItinerary\nSaturday\, Sept 19 | Vancouver \nSunday\, Sept 20 | At Sea \nMonday\, Sept 21 | At Sea \nTuesday\, Sept 22 | San Francisco \nWednesday\, Sept 23 | At Sea \nThursday\, Sept 24 | Santa Barbara \nFriday\, Sept 25 | Los Angeles \n  \nWhy book now? \nBook now to take advantage of the best available cabins. Exclusive PCA Member rates start at $999 per guest and include all the benefits of Princess PLUS (WiFi\, Beverages\, Crew Appreciation\, and more). \nCall 833-679-2188 to speak to a PCA Travel Concierge agent to book your cruise today!
URL:https://pcachs.org/event/treffen-at-sea-pacific-wine-country/
LOCATION:MD
CATEGORIES:National Event
END:VEVENT
END:VCALENDAR