BEGIN:VCALENDAR
VERSION:2.0
PRODID:-//Porsche Club of America - Chesapeake Region - ECPv6.15.20//NONSGML v1.0//EN
CALSCALE:GREGORIAN
METHOD:PUBLISH
X-WR-CALNAME:Porsche Club of America - Chesapeake Region
X-ORIGINAL-URL:https://pcachs.org
X-WR-CALDESC:Events for Porsche Club of America - Chesapeake Region
REFRESH-INTERVAL;VALUE=DURATION:PT1H
X-Robots-Tag:noindex
X-PUBLISHED-TTL:PT1H
BEGIN:VTIMEZONE
TZID:America/New_York
BEGIN:DAYLIGHT
TZOFFSETFROM:-0500
TZOFFSETTO:-0400
TZNAME:EDT
DTSTART:20250309T070000
END:DAYLIGHT
BEGIN:STANDARD
TZOFFSETFROM:-0400
TZOFFSETTO:-0500
TZNAME:EST
DTSTART:20251102T060000
END:STANDARD
BEGIN:DAYLIGHT
TZOFFSETFROM:-0500
TZOFFSETTO:-0400
TZNAME:EDT
DTSTART:20260308T070000
END:DAYLIGHT
BEGIN:STANDARD
TZOFFSETFROM:-0400
TZOFFSETTO:-0500
TZNAME:EST
DTSTART:20261101T060000
END:STANDARD
BEGIN:DAYLIGHT
TZOFFSETFROM:-0500
TZOFFSETTO:-0400
TZNAME:EDT
DTSTART:20270314T070000
END:DAYLIGHT
BEGIN:STANDARD
TZOFFSETFROM:-0400
TZOFFSETTO:-0500
TZNAME:EST
DTSTART:20271107T060000
END:STANDARD
END:VTIMEZONE
BEGIN:VEVENT
DTSTART;VALUE=DATE:20260606
DTEND;VALUE=DATE:20260607
DTSTAMP:20260423T121548
CREATED:20260110T220113Z
LAST-MODIFIED:20260414T200734Z
UID:10000185-1780704000-1780790399@pcachs.org
SUMMARY:Wags\, Wings and Wheels Tour
DESCRIPTION:PCA-CHS 2026 Tour & Rally Event No. 7– Saturday\, June 6th    \nREGISTER HERE\nJoin us for the 2026 edition of the Wags\, Wings & Wheels\, a special tour on the Eastern Shore of Maryland with a route created by Guest Tour Master Tom Divilio to benefit the Baywater Animal Rescue. Using a different route\, we will drive some of the picturesque roads of Dorchester County and going by some of Maryland’s oldest and most remote farms. We will end at the Cambridge-Dorchester Regional Airport for the fundraising event for Baywater Animal Rescue. Optional hotel information for Friday/Saturday is below. \nOnce at the airport\, there will be a range of food and craft vendors\, as well as aircraft display featuring antique\, modern and some experimental aircraft\, and a car show\, which will feature our Porsches. This event is pet-friendly\, and there will be opportunities to adopt a new pet. Think of this as a very large outdoor lawn party\, with live music\, food and craft vendors as well as an aircraft display. \nThe Wags\, Wings and Wheels event is a fundraiser for Baywater Animal Rescue\, the Eastern Shore’s leading no-kill animal welfare organization. Baywater has been a safe place for homeless companion animals since 1947 and is totally dependent on donations as it receives no government funding. Your registration fee will go to Baywater. Additional donations are encouraged and tax deductible. \nTo donate directly\, or purchase items from their wish list for donation\, please see their website; https://www.baywateranimalrescue.org/ \nWHEN and WHERE  \n\nWhen: Saturday\, June 6th\, 9:00 am  \nWhere: The Cambridge\, MD address will be sent to confirmed registrants by June 5th  \nParticipant’s Meeting: 8:30 am\nDeparture: First cars off at 9:00 am\nDriving time and distance: approximately 1 1/2 hours and XX miles total\nDestination: Cambridge-Dorchester Regional Airport\, 5263 Bucktown Rd\, Cambridge\, MD 21613\n\nPARTICIPATION   \nBy signing up for and joining any of our driving events\, registrants acknowledge and assume all the risks in and full responsibility for their participation. PCA waiver forms must be completed and signed by all\, online or on paper. Note that planned events are subject to change\, for weather-related or other reasons. \nREGISTRATION \n\nRegistration will open soon and will end on June 3rd at 1:00 pm.\nTo register\, log on to your account at Motorsportreg.com\n$5 registration fee per adult; maximum fee $10 per car.\nNo fee for minors (17 and younger).\nMotorsportReg charges a $2 service fee per registration (not for every person).\nPCA members and their guests must be registered and confirmed to join this event.\nDrivers must be adult (18 and older) PCA members with a valid driver’s license.\nEach participant in the tour must complete a SpeedWaiver: https://pcachesapeake.speedwaiver.com/wqxml.\nRoute instructions\, and other documents will be sent to confirmed registrants via email by 6:00 pm on June 5th.\nAll PCA members and their family are welcome.\nYou will not have to pay the entrance fee at the event.\nTo obtain a refund\, cancellations must be made before the closing of registration.\nIf you have already registered and need help to cancel your registration\, refer to this link for detailed instructions.\n\nOPTIONAL HOTEL \nFor those who would rather spend Friday (or Saturday) night closer to the start of the tour\, we have made special arrangements with Holiday Inn Express in Cambridge\, MD for several rooms at a special rate of $189 plus tax for the night. To reserve a room\, contact the Holiday Inn Express directly at (410) 221-9900\, and ask for the Baywater rate. \nOPTIONAL DINNER \nWe will also have an optional group dinner on Friday night at Ava’s Pizzaria in Cambridge\, MD. For more about Ava’s\, see their website: https://avaspizzeria.com/cambridge-md. \nQUESTIONS: Please send questions to Rich Ehrlich\, Tour & Rally Committee\, at tour@pcachs.org. \nTo preview and register for upcoming Tours\, visit the Tour & Rally page on PCACHS.org: https://pcachs.org/tour-and-rally/ \n 
URL:https://pcachs.org/event/wags-wings-and-wheels-guest-tour/
LOCATION:MD
CATEGORIES:Tours & Rallies
END:VEVENT
END:VCALENDAR