BEGIN:VCALENDAR
VERSION:2.0
PRODID:-//Porsche Club of America - Chesapeake Region - ECPv6.15.20//NONSGML v1.0//EN
CALSCALE:GREGORIAN
METHOD:PUBLISH
X-WR-CALNAME:Porsche Club of America - Chesapeake Region
X-ORIGINAL-URL:https://pcachs.org
X-WR-CALDESC:Events for Porsche Club of America - Chesapeake Region
REFRESH-INTERVAL;VALUE=DURATION:PT1H
X-Robots-Tag:noindex
X-PUBLISHED-TTL:PT1H
BEGIN:VTIMEZONE
TZID:America/New_York
BEGIN:DAYLIGHT
TZOFFSETFROM:-0500
TZOFFSETTO:-0400
TZNAME:EDT
DTSTART:20250309T070000
END:DAYLIGHT
BEGIN:STANDARD
TZOFFSETFROM:-0400
TZOFFSETTO:-0500
TZNAME:EST
DTSTART:20251102T060000
END:STANDARD
BEGIN:DAYLIGHT
TZOFFSETFROM:-0500
TZOFFSETTO:-0400
TZNAME:EDT
DTSTART:20260308T070000
END:DAYLIGHT
BEGIN:STANDARD
TZOFFSETFROM:-0400
TZOFFSETTO:-0500
TZNAME:EST
DTSTART:20261101T060000
END:STANDARD
BEGIN:DAYLIGHT
TZOFFSETFROM:-0500
TZOFFSETTO:-0400
TZNAME:EDT
DTSTART:20270314T070000
END:DAYLIGHT
BEGIN:STANDARD
TZOFFSETFROM:-0400
TZOFFSETTO:-0500
TZNAME:EST
DTSTART:20271107T060000
END:STANDARD
END:VTIMEZONE
BEGIN:VEVENT
DTSTART;VALUE=DATE:20260425
DTEND;VALUE=DATE:20260426
DTSTAMP:20260423T105740
CREATED:20251217T123428Z
LAST-MODIFIED:20260110T022215Z
UID:10000163-1777075200-1777161599@pcachs.org
SUMMARY:AX 1 @ Ripken
DESCRIPTION:Autocross consists of navigating your car faster than your competition through a course delineated by soft orange traffic cones which will not damage your car. Events are run at speeds typically between 25-70 MPH\, usually in 2nd gear. Autocross is a performance driving event emphasizing your car’s handling and is an exciting way to experience driving your car at its limit. You not only learn how to handle your car at speeds that you drive daily\, but you also: \n\nGain confidence in your driving ability\nLearn the limits of your car’s brakes\nLearn correct seating\, hand\, and feet positions for optimum car control\nLearn the limits of your car’s handling\n\nNote\, too\, that Autocross is a social gathering of new and old friends and an opportunity to have lots of adrenaline-pumping fun! \nEntry Details (all makes and models are welcome) \n\nDate: Saturday April 25\, 2026\nEntry Fee:\n\nPCA Member Pre-registration Entry fee: $60\nNon-PCA Member Pre-registration Entry fee: $70\nFor those who are interested in autocross\, but unsure if they want to try it (or just plain curious)\, we offer a “Taste of Autocross.” For $5\, you will have the opportunity to ride with our instructors for several runs and experience the thrill!\n\n\nMSR Registration will be capped at 80 drivers. If the cap is met after registration\, you will be waitlisted and may be eligible to attend if entries become available.\nThere are no walk-ups available for this event.\nPayment information will be taken on-line at registration\, but not charged until 2-weeks before the race.\n\nVenue: \n\nRipken Stadium\, Aberdeen\, MD:\n\nRipken Stadium\n\n\n\nEvent Schedule: This is a rough schedule for the day of the event: \n0700: The venue opens to participants\n0730: Registration / Check-In opens\n0730: Tech opens\n0830: Course opens for walking\n0830: Registration / Tech closes\n0830 – 0850: Guided course walk\n0900 – 0915: Driver meeting\n0930: First car off\n1530 (approx): Event complete \nClass Structure: \nPrior to registering\, please review the details below to help you finish the registration process. \n\nSCCA classes for non-Porsches: Rules and classes can be found here:\n\nVia link to the rule book at the SCCA website: 2026 SCCA SOLO Rules (Jan Edition). (Car classes begin on p. 188 ff of the Jan edition.)\n\nDuring registration\, you will first select “Non-Porsche (using SCCA classing)” as your Class before selecting your specific 2025 SCCA class in the “Modifier” field.\n\n\nRules for CHS PCA AX events can be found here: Chesapeake PCA Autocross Rules\n\n\nPorsche classes:\n\nThere are four categories – Showroom stock (S)\, Production (P)\, Improved (I)\, and Modified (M)\nClassing information for Porsches is contained in the CHS PCA AX rules found on the Club website: Chesapeake PCA Autocross Rules.\n\n\n\nNoise Restrictions: \nDue to the proximity of condos to the racing area\, the Chesapeake PCA will monitor and deal with the noise level of cars in accordance with the SCCA sound measurement procedure found in the 2026 SCCA SOLO Rules (Jan Edition) on p. 326 ff. In a nutshell\, car noise will be measured and required to be below 108 dBc per the measurement protocol. \nRegistration: \n\nRegister for this event at MotorSportReg.com:\n\nmsreg.com/2026CHSPCA-AX1
URL:https://pcachs.org/event/ax-1-ripken-2/
LOCATION:Ripken Stadium\, 873 Long Drive\, Aberdeen\, Maryland\, 21001
CATEGORIES:Autocross
END:VEVENT
BEGIN:VEVENT
DTSTART;VALUE=DATE:20260425
DTEND;VALUE=DATE:20260426
DTSTAMP:20260423T105740
CREATED:20260110T215915Z
LAST-MODIFIED:20260207T195954Z
UID:10000182-1777075200-1777161599@pcachs.org
SUMMARY:Safeway to the Bay Tour
DESCRIPTION:This year brings a new end point for one of the best tours PCA Chesapeake has in its repertoire. We will end at the Rams Head Roadhouse for lunch. Guest Tour master Hank Lucas will lead us on his amazing driving tour through some of the most scenic and enjoyable roads in Anne Arundel and Calvert counties. \nFor more information on Rams Head Roadhouse: https://ramsheadroadhouse.com/. \nREGISTER HERE\nWHEN and WHERE \n\nWhen: Saturday\, April 25th\, 10:00 am\nWhere: The Annapolis\, MD\, address will be sent to confirmed registrants by May 1st.\nParticipant’s Meeting: 10:15 am\nDeparture: First cars off at 10:30 am\nDestination: Rams Head Roadhouse\, 1773 Generals Hwy\, Annapolis\, MD 21401\nDistance: 73 miles\nETA: Approximately 90 minutes\n\nPARTICIPATION \nBy signing up for and joining any of our driving events\, registrants acknowledge and assume all the risks in and full responsibility for their participation. PCA waiver forms must be completed and signed by all\, online or on paper. Note that planned events are subject to change\, for weather-related or other reasons. \nREGISTRATION \n\nRegistration is open and will end on April 22nd at 1:00 pm.\n$5 registration fee per adult; maximum fee $10 per car.\nNo fee for minors (17 and younger).\nMotorsportReg charges a $2 service fee per registration (not for every person).\nPCA members and their guests must be registered and confirmed to join this event.\nDrivers must be adult (18 and older) PCA members with a valid driver’s license.\nRoute instructions\, and other documents will be sent to confirmed registrants via email by 6:00 pm on May 1st.\nAll PCA members and their family are welcome.\nYou will be responsible for the cost of your own lunch.\nTo obtain a refund\, cancellations must be made before the closing of registration.\nIf you have already registered and need help to cancel your registration\, refer to this link for detailed instructions.\n\nQUESTIONS: Please send questions to the Tour & Rally Committee\, at tour@pcachs.org. \nTo preview and register for upcoming Tours\, visit the Tour and Rally page on PCACHS.org: https://pcachs.org/tour-and-rally/
URL:https://pcachs.org/event/safeway-to-the-bay-tour/
LOCATION:MD
CATEGORIES:Tours & Rallies
END:VEVENT
END:VCALENDAR