BEGIN:VCALENDAR
VERSION:2.0
PRODID:-//Porsche Club of America - Chesapeake Region - ECPv6.15.20//NONSGML v1.0//EN
CALSCALE:GREGORIAN
METHOD:PUBLISH
X-ORIGINAL-URL:https://pcachs.org
X-WR-CALDESC:Events for Porsche Club of America - Chesapeake Region
REFRESH-INTERVAL;VALUE=DURATION:PT1H
X-Robots-Tag:noindex
X-PUBLISHED-TTL:PT1H
BEGIN:VTIMEZONE
TZID:America/New_York
BEGIN:DAYLIGHT
TZOFFSETFROM:-0500
TZOFFSETTO:-0400
TZNAME:EDT
DTSTART:20250309T070000
END:DAYLIGHT
BEGIN:STANDARD
TZOFFSETFROM:-0400
TZOFFSETTO:-0500
TZNAME:EST
DTSTART:20251102T060000
END:STANDARD
BEGIN:DAYLIGHT
TZOFFSETFROM:-0500
TZOFFSETTO:-0400
TZNAME:EDT
DTSTART:20260308T070000
END:DAYLIGHT
BEGIN:STANDARD
TZOFFSETFROM:-0400
TZOFFSETTO:-0500
TZNAME:EST
DTSTART:20261101T060000
END:STANDARD
BEGIN:DAYLIGHT
TZOFFSETFROM:-0500
TZOFFSETTO:-0400
TZNAME:EDT
DTSTART:20270314T070000
END:DAYLIGHT
BEGIN:STANDARD
TZOFFSETFROM:-0400
TZOFFSETTO:-0500
TZNAME:EST
DTSTART:20271107T060000
END:STANDARD
END:VTIMEZONE
BEGIN:VEVENT
DTSTART;TZID=America/New_York:20260412T103000
DTEND;TZID=America/New_York:20260412T130000
DTSTAMP:20260423T105823
CREATED:20260221T150743Z
LAST-MODIFIED:20260221T151211Z
UID:10000207-1775989800-1775998800@pcachs.org
SUMMARY:Off We Go Tour
DESCRIPTION:The Off We Go Tour – Sunday \nPCA-CHS 2026 Tour & Rally Event No. 2b – Sunday\, April 12th  \nClick Here to Register\nDue to the overwhelming response for this tour\, we have added a second day. \nSo\, join us on Sunday\, April 12th\, for a second day of our first tour of the year. Our new route will take us through 64 miles of some of the better backroads that Carroll and Baltimore counties have to offer. Wake up your Porsche for the spring tour season and polish up your car or not. Come and join us for the start of a brand-new tour season. \nWe look forward to seeing you on this tour but register soon\, as there is limited capacity for this tour. \nPost-Tour Lunch (Optional) \nWe will have an optional post-tour lunch at Kecco’s Woodfire Kitchen\, 14 Westminster Pike\, Reisterstown\, MD 21136. Kecco’s is a family run restaurant that has been a longtime friend of the Chesapeake Region. Kecco’s offers some of the best Italian food in the area. More information on Kecco’s can be found here\, https://www.keccoswoodfire.com/. You will be responsible for paying your own bill. \nWHEN and WHERE  \n\nAssembly Point:  Mount Airy\, MD\, address will be sent to confirmed registrants by April 10th\nWhen:  April 12th\, Sunday\, at 10:30 am\nDriver’s Meeting: 10:45 am\nDeparture: First cars off at 11:00 am\nDestination: Kecco’s Woodfire Kitchen\, 14 Westminster Pike\, Reisterstown\, MD 21136\nDistance: 64 miles\nETA: Approximately 90 minutes\n\nPARTICIPATION  \nBy signing up for and joining any of our driving events\, registrants acknowledge and assume all the risks in and full responsibility for their participation. PCA waiver forms must be completed and signed by all\, online or on paper. Note that planned events are subject to change\, for weather-related or other reasons. \nREGISTRATION \n\nLog on to your MotorsportReg account at com/Offwegotoursunday\nRegistration is open and will close at 1:00 pm on April 9th.\nPCA members and their guests must be registered and confirmed to join this event.\nDrivers must be adult PCA members with a valid driver’s license.\nFee $5 per adult; maximum fee $10 per car; minors (17 and younger) free.\nMotorsportReg charges a $2 booking fee for every registration (not for every person).\nRoute instructions and other documents will be sent to confirmed registrants via e-mail by 6:00 pm on April 10th.\nAll PCA members and their family are welcome.\nThis event has capacity limits for cars and people.\nWhen you register\, please indicate whether you and your passenger(s) will attend the post-tour lunch.\nTo obtain a refund\, cancellations must be made before the closing of registration.\nIf you have already registered and need help to cancel your registration\, refer to this link for detailed instructions.\n\n  \nQUESTIONS: Send tour-related questions to the Tour & Rally Committee\, at tour@pcachs.org. \nTo preview and register for upcoming Tours\, visit the Tour & Rally page on PCACHS.org: https://pcachs.org/tour-and-rally/ \n  \n  \n 
URL:https://pcachs.org/event/off-we-go-tour-2/
LOCATION:MD
CATEGORIES:Tours & Rallies
END:VEVENT
END:VCALENDAR