BEGIN:VCALENDAR
VERSION:2.0
PRODID:-//Porsche Club of America - Chesapeake Region - ECPv6.15.20//NONSGML v1.0//EN
CALSCALE:GREGORIAN
METHOD:PUBLISH
X-ORIGINAL-URL:https://pcachs.org
X-WR-CALDESC:Events for Porsche Club of America - Chesapeake Region
REFRESH-INTERVAL;VALUE=DURATION:PT1H
X-Robots-Tag:noindex
X-PUBLISHED-TTL:PT1H
BEGIN:VTIMEZONE
TZID:America/New_York
BEGIN:DAYLIGHT
TZOFFSETFROM:-0500
TZOFFSETTO:-0400
TZNAME:EDT
DTSTART:20240310T070000
END:DAYLIGHT
BEGIN:STANDARD
TZOFFSETFROM:-0400
TZOFFSETTO:-0500
TZNAME:EST
DTSTART:20241103T060000
END:STANDARD
BEGIN:DAYLIGHT
TZOFFSETFROM:-0500
TZOFFSETTO:-0400
TZNAME:EDT
DTSTART:20250309T070000
END:DAYLIGHT
BEGIN:STANDARD
TZOFFSETFROM:-0400
TZOFFSETTO:-0500
TZNAME:EST
DTSTART:20251102T060000
END:STANDARD
BEGIN:DAYLIGHT
TZOFFSETFROM:-0500
TZOFFSETTO:-0400
TZNAME:EDT
DTSTART:20260308T070000
END:DAYLIGHT
BEGIN:STANDARD
TZOFFSETFROM:-0400
TZOFFSETTO:-0500
TZNAME:EST
DTSTART:20261101T060000
END:STANDARD
END:VTIMEZONE
BEGIN:VEVENT
DTSTART;VALUE=DATE:20251005
DTEND;VALUE=DATE:20251010
DTSTAMP:20260423T201921
CREATED:20250309T202040Z
LAST-MODIFIED:20250309T202040Z
UID:10000131-1759622400-1760054399@pcachs.org
SUMMARY:Treffen - Jackson Hole
DESCRIPTION:  \nIndulge your mind\, body\, and soul in a destination unlike any other\, where you may unwind among Mother Nature’s most incredible feats—the famed Jackson Hole\, Wyoming. While a vacation destination\, Jackson is also the gateway to Grand Teton and Yellowstone National Parks. \nIn the fall\, golden leaves illuminate the valley floor\, and jagged\, snow-capped peaks provide unforgettable views. The combination of clean mountain air\, wide-open spaces where wildlife thrives\, streambeds filled with trout\, and an unrivaled level of Western authenticity appeals to the discriminating Porsche lifestyle. \n\n\nJackson Hole Valley is a flourishing cultural arts center with celebrated restaurants and recreational opportunities.  While you may see a celebrity or two strolling by\, this region is the best place in the Lower 48 to observe wild wolves\, bears\, elk\, and moose\, to name a few of the iconic species that call this area home. \nOur host resort is the Forbes five-star Four Seasons Resort & Residences.  Known for its exceptional personalized hospitality and luxurious accommodations\, U.S. News and World Report has rated the Four Seasons as the #1 resort in Jackson Hole.  The décor reflects a sense of Western grandeur and sophistication\, emphasizing comfort and indulgence while offering every amenity and convenience.  This is one Treffen you won’t want to miss. \nOctober 5 – 9\, 2025 \nFour Seasons Resort Jackson Hole\n7680 Granite Loop Rd\nTeton Village\, WY 83025\nRegistration Opens – Wednesday\, June 11th\, 2025\, at 3:00 PM ET
URL:https://pcachs.org/event/treffen-jackson-hole/
LOCATION:MD
CATEGORIES:National Event
END:VEVENT
END:VCALENDAR