BEGIN:VCALENDAR
VERSION:2.0
PRODID:-//Porsche Club of America - Chesapeake Region - ECPv6.15.20//NONSGML v1.0//EN
CALSCALE:GREGORIAN
METHOD:PUBLISH
X-ORIGINAL-URL:https://pcachs.org
X-WR-CALDESC:Events for Porsche Club of America - Chesapeake Region
REFRESH-INTERVAL;VALUE=DURATION:PT1H
X-Robots-Tag:noindex
X-PUBLISHED-TTL:PT1H
BEGIN:VTIMEZONE
TZID:America/New_York
BEGIN:DAYLIGHT
TZOFFSETFROM:-0500
TZOFFSETTO:-0400
TZNAME:EDT
DTSTART:20240310T070000
END:DAYLIGHT
BEGIN:STANDARD
TZOFFSETFROM:-0400
TZOFFSETTO:-0500
TZNAME:EST
DTSTART:20241103T060000
END:STANDARD
BEGIN:DAYLIGHT
TZOFFSETFROM:-0500
TZOFFSETTO:-0400
TZNAME:EDT
DTSTART:20250309T070000
END:DAYLIGHT
BEGIN:STANDARD
TZOFFSETFROM:-0400
TZOFFSETTO:-0500
TZNAME:EST
DTSTART:20251102T060000
END:STANDARD
BEGIN:DAYLIGHT
TZOFFSETFROM:-0500
TZOFFSETTO:-0400
TZNAME:EDT
DTSTART:20260308T070000
END:DAYLIGHT
BEGIN:STANDARD
TZOFFSETFROM:-0400
TZOFFSETTO:-0500
TZNAME:EST
DTSTART:20261101T060000
END:STANDARD
END:VTIMEZONE
BEGIN:VEVENT
DTSTART;TZID=America/New_York:20250829T170000
DTEND;TZID=America/New_York:20250829T210000
DTSTAMP:20260424T000950
CREATED:20250811T194503Z
LAST-MODIFIED:20250811T194503Z
UID:10000152-1756486800-1756501200@pcachs.org
SUMMARY:50 Years of ANDIAL: A celebration at TPC
DESCRIPTION:TPC Racing\, a state of the art Motorsports Park in Jessup\, is hosting a once in a lifetime opportunity to meet and hear from Alwin Springer\, the driving force behind Porsche’s motorsport success.  A founding member of ANDIAL and godfather of Porsche motorsports\, Alwin played a pivotal role in shaping Porsche’s racing legacy. \nIn 1975\, Alwin\, along with fellow motorsports trailblazers Dieter Inzenhofer and Arnold Wagner\, founded ANDIAL\, which quickly evolved into a hub of North America’s most successful Porsche tuning and performance expertise. By the late 80s\, Alwin had taken over leadership of Porsche Motorsports North America\, ultimately building the program into the powerhouse it has become. \nThis is your opportunity to connect with fellow Porsche owners and attend informal talks with TPC Founder and Owner\, Mike Levitas\, and true Porsche Legend\, Alwin Springer.  This will be followed by the opportunity to participate in a brief Q&A. Light fare will be served. All attendees will receive a collectible souvenir. \nFront and center parking spots on Charity Row are available by contributing a $50 donation to benefit the Erin Levitas Foundation (limited to 20 cars). The best in show winner will receive a limited edition ANDIAL Porsche 935 L model!  All donations support the foundation’s mission to prevent sexual assault through research-backed educational programs. Other registrations are $10 a person. \nJoin us to celebrate 50 years of ANDIAL\, hear from a true living legend\, explore the world of Porsche motorsports today\, and connect with friends over the greatest sport in the world. \nWe hope to see you there. \nWHEN and WHERE \nWhen: Friday\, August 29\, 2025    The event opens at 5:00pm with Alwin scheduled to begin his roundtable discussion promptly at 6:00pm. \nWhere: Turbo Performance Center\, 7869 Dorsey Run Rd\, Jessup\, MD 20794 \nREGISTRATION \n• PCA members and their guests must be registered and confirmed to join this event. MSR \n• All proceeds will support the Erin Levitas Foundation. Their mission is focused on changing the world for those living with the pain of sexual assault and expanding the educational programs prevent sexual assault from ever happening again. Direct donations can be made on their website: https://erinlevitas.com \n• If you have already registered and need help to cancel your registration\, refer to this link for detailed instructions.
URL:https://pcachs.org/event/50-years-of-andial-a-celebration-at-tpc/
LOCATION:MD
END:VEVENT
END:VCALENDAR